BEGIN:VCALENDAR
VERSION:2.0
PRODID:-//Northfield Arts Guild - ECPv6.15.19//NONSGML v1.0//EN
CALSCALE:GREGORIAN
METHOD:PUBLISH
X-WR-CALNAME:Northfield Arts Guild
X-ORIGINAL-URL:https://northfieldartsguild.org
X-WR-CALDESC:Events for Northfield Arts Guild
REFRESH-INTERVAL;VALUE=DURATION:PT1H
X-Robots-Tag:noindex
X-PUBLISHED-TTL:PT1H
BEGIN:VTIMEZONE
TZID:America/Chicago
BEGIN:DAYLIGHT
TZOFFSETFROM:-0600
TZOFFSETTO:-0500
TZNAME:CDT
DTSTART:20180311T080000
END:DAYLIGHT
BEGIN:STANDARD
TZOFFSETFROM:-0500
TZOFFSETTO:-0600
TZNAME:CST
DTSTART:20181104T070000
END:STANDARD
BEGIN:DAYLIGHT
TZOFFSETFROM:-0600
TZOFFSETTO:-0500
TZNAME:CDT
DTSTART:20190310T080000
END:DAYLIGHT
BEGIN:STANDARD
TZOFFSETFROM:-0500
TZOFFSETTO:-0600
TZNAME:CST
DTSTART:20191103T070000
END:STANDARD
BEGIN:DAYLIGHT
TZOFFSETFROM:-0600
TZOFFSETTO:-0500
TZNAME:CDT
DTSTART:20200308T080000
END:DAYLIGHT
BEGIN:STANDARD
TZOFFSETFROM:-0500
TZOFFSETTO:-0600
TZNAME:CST
DTSTART:20201101T070000
END:STANDARD
END:VTIMEZONE
BEGIN:VEVENT
DTSTART;TZID=America/Chicago:20190329T100000
DTEND;TZID=America/Chicago:20190329T130000
DTSTAMP:20260425T093606
CREATED:20181128T183549Z
LAST-MODIFIED:20181128T183549Z
UID:18751-1553853600-1553864400@northfieldartsguild.org
SUMMARY:Open Art
DESCRIPTION:Home over Spring Break? Come to the Guild! \nDrop in for a minute or stay for a while and create with your family! Make a planned craft or let your creativity guide your art making. Supplies will be available for artists of all ages! No registration required.
URL:https://northfieldartsguild.org/event/open-art-6/
LOCATION:Northfield Arts Guild\, 304 Division St.\, Northfield\, MN\, 55057\, United States
CATEGORIES:Education,Visual Arts
ATTACH;FMTTYPE=:
END:VEVENT
BEGIN:VEVENT
DTSTART;TZID=America/Chicago:20190322T180000
DTEND;TZID=America/Chicago:20190322T210000
DTSTAMP:20260425T093606
CREATED:20181112T175830Z
LAST-MODIFIED:20181112T175830Z
UID:18469-1553277600-1553288400@northfieldartsguild.org
SUMMARY:Reception-To the Top! A Cup Show
DESCRIPTION:Please join us for an Artist Reception on Friday\, March 22 from 6-9 pm with Artist-Led Gallery Tours from 6-7 pm.  Refreshments will be served.\n      \nMarch 21 – May 11\, 2019\nTo the Top! A Cup Show\nThis exhibition features an eclectic mix of drinking vessels created by regional ceramic artists who are members of the Northfield Arts Guild. Marion Angelica\, Christie Clarke\, Rafael Estrella\, Sonja Hillestad\, Judy Kutulas\, Caroline Mecklin\, Sue Pariseau\, Elizabeth Pechacek\, Katie Teesdale\, Sarah Titus and Johnnie Walker. \n  \nThis exhibition presented in conjunction with Claytopia\, National Council on Education for the Ceramic Arts (NCECA) Annual Conference\, March 27-30\, 2019\, Minneapolis\, MN. \n  \n2018-19 Gallery Season sponsored by:
URL:https://northfieldartsguild.org/event/to-the-top-cup-show/
LOCATION:Northfield Arts Guild\, 304 Division St.\, Northfield\, MN\, 55057\, United States
CATEGORIES:Special Events,Visual Arts
ATTACH;FMTTYPE=:
END:VEVENT
BEGIN:VEVENT
DTSTART;TZID=America/Chicago:20190322T180000
DTEND;TZID=America/Chicago:20190322T210000
DTSTAMP:20260425T093606
CREATED:20181112T175102Z
LAST-MODIFIED:20181112T175102Z
UID:18464-1553277600-1553288400@northfieldartsguild.org
SUMMARY:Reception-Artists of the Cannon River Clay Tour: Place
DESCRIPTION:Please join us for an Artist Reception for Artists of the Cannon River Clay Tour: Place on Friday\, March 22 from 6-9 pm with Artist-Led Gallery Tours from 6-7 pm.  Refreshments will be served.\nArtists of the Cannon River Clay Tour: Place\nMarch 21 – May 11\, 2019\n         \nEleven artists linked through geography and love of material exhibit ten place settings and sculptures that highlight the influences of place on the varied ceramic work they make. This exhibition features: Barb Zaveruha\, Chris & Sue Holmquist\, Colleen Riley\, Donovan Palmquist\, Glynnis Lessing\, James LaChance\, Joel Froehle\, Juliane Shibata\, Kelly Connole\, and Kip O’Krongly. \n\nThis exhibition presented in conjunction with Claytopia\, National Council on Education for the Ceramic Arts (NCECA) Annual Conference\, March 27-30\, 2019\, Minneapolis\, MN.\n\n2018-19 Gallery Season sponsored by:\n\n\n 
URL:https://northfieldartsguild.org/event/artists-of-the-cannon-river-clay-tour-place/
LOCATION:Northfield Arts Guild\, 304 Division St.\, Northfield\, MN\, 55057\, United States
CATEGORIES:Special Events,Visual Arts
ATTACH;FMTTYPE=:
END:VEVENT
BEGIN:VEVENT
DTSTART;TZID=America/Chicago:20190322T170000
DTEND;TZID=America/Chicago:20190322T200000
DTSTAMP:20260425T093606
CREATED:20190125T220614Z
LAST-MODIFIED:20190125T220614Z
UID:19011-1553274000-1553284800@northfieldartsguild.org
SUMMARY:Capstone Event-Cell Persona: Incarceration's Impact on Black Lives
DESCRIPTION:Please join us for an free Artist Talk (SEMAC Capstone Event) at 5 pm on Friday\, March 22\, where Paul will present on his grant project. Followed by a reception from 6-8 pm; refreshments will be served.\nCell Persona: Incarceration’s Impact on Black Lives\nby Paul Briggs\nMarch 21 – May 11\, 2019\n   \nArtist Statement\nBy addressing the impact of incarceration on black lives\, Cell Persona draws attention to an aspect of society that prevents the world from reaching Utopia and the “restless yearning for a more livable\, just\, and meaningful world.” Indeed\, Cell Persona is about the far psychological and civic reach of incarceration into the lives of persons and their families’ ability to participate in democratic life even after incarceration. The disenfranchisement of blacks due to incarceration is what Michelle Alexander explores in her book\, “The New Jim Crow: Mass Incarceration in the Age of Colorblindness.” \nMy cells discover the fact that disproportionately black persons populate our prisons and the cell reaches beyond its interior. Again\, the exploration is two-fold in exploring the reach beyond the actual cell and the reach of incarceration beyond an individual’s prison sentence. The forms dramatize both the reach of incarceration but primarily my own personal\, emotional\, experience of working with families with incarnated loved ones. Under the present laws a literal felon label and a cell mentality becomes part of the life of freed persons and their families perpetually. \nPreceding the Artist Reception on Friday\, March 22\, Briggs will lead a Capstone Event at 5 pm discussing the ideas he explored in his grant project. \n  \n\nThis exhibition presented in conjunction with Claytopia\, National Council on Education for the Ceramic Arts (NCECA) Annual Conference\, March 27-30\, 2019\, Minneapolis\, MN. \n\n\n\n2018-19 Gallery Season sponsored by:\n\n\n\nThis activity is made possible by the voters of Minnesota through a grant from the Southeastern Minnesota Arts Council thanks to a legislative appropriation from the arts & cultural heritage fund.
URL:https://northfieldartsguild.org/event/cell-persona-incarcerations-impact-on-black-lives/
LOCATION:Northfield Arts Guild\, 304 Division St.\, Northfield\, MN\, 55057\, United States
CATEGORIES:Special Events,Visual Arts
ATTACH;FMTTYPE=:
END:VEVENT
BEGIN:VEVENT
DTSTART;TZID=America/Chicago:20190316T100000
DTEND;TZID=America/Chicago:20190316T150000
DTSTAMP:20260425T093606
CREATED:20190116T170558Z
LAST-MODIFIED:20190116T170558Z
UID:18972-1552730400-1552748400@northfieldartsguild.org
SUMMARY:2nd Annual Craftastic Art Supply Swap & Sale
DESCRIPTION:Calling all artists\, crafters and makers! Lighten your load or come find supplies for your next creation at the Guild’s 2nd Annual Craftastic Art Supply Swap & Sale! \nHave you:\n· Been inspired by Marie Kondo and started tidying up your studio/craft room??\n· Dabbled in a medium (or two or three!) then moved on to something new?\n· Felt like your studio/craft room is bursting with partially used and unused craft/art supplies?\n \nFor a $20 donation you’ll get:\n· 3′ x 6’ space for yourself\, or to share with friends in our upstairs studio.\n· You decide if you’re giving\, swapping or selling your supplies.\n· Enjoy treats and coffee and connect with other area makers.\nSpace is limited to the first 12 spaces – only 2 spaces remain!!!\nTo reserve a table or donate supplies please contact: heather@northfieldartsguild.org· 507-645-8877 x 4\nNew this year! Craftastic will feature a “Part With Your Art” area. This is for artists/collectors who have art pieces or anything that hangs on a wall that they want to donate or sell. \n\nOut of town\, or don’t have enough supplies to need a table? Donate your supplies to the Guild\, and we’ll be happy to sell them at our table! Proceeds benefit the Guild’s Visual Arts Programming. Craftastic is supported by Makeshift Accessories \n\n______________________________________________\n\nCome find supplies for your next creation at the Guild’s 2nd Annual Craftastic Art Supply Swap & Sale! Area makers have cleaned out their studios and will have supplies to give\, swap and sell at this event.  Held in our upstairs Dance Studio on Saturday\, March 16 from 10 am – 3 pm. FREE to attend; get your Guild Goodie Bag – while supplies last!  Enjoy treats and coffee while connecting with other area makers. Proceeds benefit the Guild’s Visual Arts Programming. \nTools · Fiber · Paints · Beads  Books · Fabric · Card Making Supplies · Stamps · Paper  · Yarn Ribbon · Knitting Needles · Shuttles · Glass sheets & Ceramic for Mosaics · Fimo Clay · Kids Crafting Supplies · Supply Storage Solutions…AND MORE!  \nHave questions or want to donate to the event? Please contact heather@northfieldartsguild.org or 507.645.8877\n 
URL:https://northfieldartsguild.org/event/2nd-annual-craftastic-art-supply-swap-sale/
LOCATION:Northfield Arts Guild\, 304 Division St.\, Northfield\, MN\, 55057\, United States
CATEGORIES:Special Events,Visual Arts
ATTACH;FMTTYPE=:
END:VEVENT
BEGIN:VEVENT
DTSTART;TZID=America/Chicago:20190119T100000
DTEND;TZID=America/Chicago:20190119T140000
DTSTAMP:20260425T093606
CREATED:20181031T215940Z
LAST-MODIFIED:20181031T215940Z
UID:18346-1547892000-1547906400@northfieldartsguild.org
SUMMARY:Imagination Celebration
DESCRIPTION:Join us at our annual Imagination Celebration event! \nImagination Celebration is a free day of art and performances on Saturday\, Jan. 19\, 2019 from 10 am- 2 pm. This family-friendly event features the All-School Show in our Main Gallery\, mini performances\, demonstrations\, and hands-on art activities in our Art Studio\, Clay Studio\, and Dance Studio. \nThis celebration of all things great about art is a popular\, long-running event drawing hundreds of people to the Northfield Arts Guild. Imagination Celebration will showcase the annual All-School Show: New Year\, New Perspectives\, an exhibition of colorful 2D and 3D artwork created by K-12 students from Northfield Area schools. During Imagination Celebration local art teachers will be present to guide visitors through and answer questions regarding the show. \nThis exhibition features student work from Arcadia Charter School\, Area Learning Center\, Bridgewater Elementary School\, Greenvale Park Community School\, Northfield Area Homeschool Classes\, Northfield High School\, Northfield Middle School\, Prairie Creek Community School\, Sibley Elementary School\, and St. Dominic Catholic School. \nIn addition to the Main Gallery exhibition\, The Up Gallery will feature\, We Are Your Neighbors\, a photo exhibition by local Latino youth sharing images from their daily lives. \nImagination Celebration is a full day of community celebration of the arts and will take place at the Northfield Arts Guild\, 304 Division Street South. This is a free event.  For more information call our office at 507.645.8877. \nSchedule of Events\nDance Studio\n10 am: Folklorico dancers performance\n10:30 am: Northfield Youth Choir performance\n12 pm Belly Dance with Kate Southwick performance and try-its\n12:30 pm Improv games with Purple Door Youth Theater\n1:30 pm Dance Theater Company with Hotspot House Band performance \nArt Studio\n10 am – 2 pm: Open Art Making for all ages \nClay Studio\n10 am – 11:30 am: Demonstrations & try-its with Rafa Estrella \nMain Gallery\n10 am – 2 pm: Art educator-led tours of the exhibition
URL:https://northfieldartsguild.org/event/imagination-celebration-4/
LOCATION:Northfield Arts Guild\, 304 Division St.\, Northfield\, MN\, 55057\, United States
ATTACH;FMTTYPE=:
END:VEVENT
END:VCALENDAR