BEGIN:VCALENDAR
VERSION:2.0
PRODID:-//Northfield Arts Guild - ECPv6.15.19//NONSGML v1.0//EN
CALSCALE:GREGORIAN
METHOD:PUBLISH
X-ORIGINAL-URL:https://northfieldartsguild.org
X-WR-CALDESC:Events for Northfield Arts Guild
REFRESH-INTERVAL;VALUE=DURATION:PT1H
X-Robots-Tag:noindex
X-PUBLISHED-TTL:PT1H
BEGIN:VTIMEZONE
TZID:America/Chicago
BEGIN:DAYLIGHT
TZOFFSETFROM:-0600
TZOFFSETTO:-0500
TZNAME:CDT
DTSTART:20210314T080000
END:DAYLIGHT
BEGIN:STANDARD
TZOFFSETFROM:-0500
TZOFFSETTO:-0600
TZNAME:CST
DTSTART:20211107T070000
END:STANDARD
BEGIN:DAYLIGHT
TZOFFSETFROM:-0600
TZOFFSETTO:-0500
TZNAME:CDT
DTSTART:20220313T080000
END:DAYLIGHT
BEGIN:STANDARD
TZOFFSETFROM:-0500
TZOFFSETTO:-0600
TZNAME:CST
DTSTART:20221106T070000
END:STANDARD
BEGIN:DAYLIGHT
TZOFFSETFROM:-0600
TZOFFSETTO:-0500
TZNAME:CDT
DTSTART:20230312T080000
END:DAYLIGHT
BEGIN:STANDARD
TZOFFSETFROM:-0500
TZOFFSETTO:-0600
TZNAME:CST
DTSTART:20231105T070000
END:STANDARD
BEGIN:DAYLIGHT
TZOFFSETFROM:-0600
TZOFFSETTO:-0500
TZNAME:CDT
DTSTART:20240310T080000
END:DAYLIGHT
BEGIN:STANDARD
TZOFFSETFROM:-0500
TZOFFSETTO:-0600
TZNAME:CST
DTSTART:20241103T070000
END:STANDARD
BEGIN:DAYLIGHT
TZOFFSETFROM:-0600
TZOFFSETTO:-0500
TZNAME:CDT
DTSTART:20250309T080000
END:DAYLIGHT
BEGIN:STANDARD
TZOFFSETFROM:-0500
TZOFFSETTO:-0600
TZNAME:CST
DTSTART:20251102T070000
END:STANDARD
END:VTIMEZONE
BEGIN:VEVENT
DTSTART;TZID=America/Chicago:20240324T090000
DTEND;TZID=America/Chicago:20240324T110000
DTSTAMP:20260421T182439
CREATED:20231129T192227Z
LAST-MODIFIED:20231129T194043Z
UID:38542-1711270800-1711278000@northfieldartsguild.org
SUMMARY:Clay Fantastique! Session 3
DESCRIPTION:This course is for beginners and focuses on learning and practicing the basic concepts and techniques of wheel throwing.
URL:https://northfieldartsguild.org/event/clay-fantastique-session-3/2024-03-24/
LOCATION:Northfield Arts Guild\, 304 Division St.\, Northfield\, MN\, 55057\, United States
ATTACH;FMTTYPE=image/png:https://northfieldartsguild.org/wp-content/uploads/Clay.png
END:VEVENT
BEGIN:VEVENT
DTSTART;TZID=America/Chicago:20240320T183000
DTEND;TZID=America/Chicago:20240320T203000
DTSTAMP:20260421T182439
CREATED:20240304T184442Z
LAST-MODIFIED:20240305T184438Z
UID:39547-1710959400-1710966600@northfieldartsguild.org
SUMMARY:Adult Paint
DESCRIPTION:Enjoy some social time with other adults in a stress-free painting alongside community artists. Bring someone else\, or just yourself\, and explore your creative side with good conversation. Leave with a completed project\, a painting skill or two\, and new friends. Please come with a photo of what you’d like to paint\, either printed out or on a device. An experienced painter will be present to answer questions and give advice.
URL:https://northfieldartsguild.org/event/adult-paint-9/2024-03-20/
LOCATION:Northfield Arts Guild\, 304 Division St.\, Northfield\, MN\, 55057\, United States
END:VEVENT
BEGIN:VEVENT
DTSTART;TZID=America/Chicago:20240319T170000
DTEND;TZID=America/Chicago:20240319T204500
DTSTAMP:20260421T182439
CREATED:20231129T191114Z
LAST-MODIFIED:20231129T193859Z
UID:38516-1710867600-1710881100@northfieldartsguild.org
SUMMARY:Youth Clay Session 3
DESCRIPTION:Register your Kindergarten through 12th grader for youth ceramics! \nKids Clay: 5-6:15pm \nClay for Middle School: 6:15-7:30pm \nClay for High School: 7:30-8:45pm
URL:https://northfieldartsguild.org/event/youth-clay-session-3/2024-03-19/
LOCATION:Northfield Arts Guild\, 304 Division St.\, Northfield\, MN\, 55057\, United States
ATTACH;FMTTYPE=image/jpeg:https://northfieldartsguild.org/wp-content/uploads/clay-tile-5-1.jpg
END:VEVENT
BEGIN:VEVENT
DTSTART;TZID=America/Chicago:20240309T080000
DTEND;TZID=America/Chicago:20240309T170000
DTSTAMP:20260421T182439
CREATED:20231219T182557Z
LAST-MODIFIED:20231219T182557Z
UID:38934-1709971200-1710003600@northfieldartsguild.org
SUMMARY:Main Gallery:  All School Art Show closes
DESCRIPTION:
URL:https://northfieldartsguild.org/event/main-gallery-all-school-art-show-closes/
LOCATION:Northfield Arts Guild\, 304 Division St.\, Northfield\, MN\, 55057\, United States
CATEGORIES:Visual Arts
END:VEVENT
BEGIN:VEVENT
DTSTART;TZID=America/Chicago:20240222T093000
DTEND;TZID=America/Chicago:20240222T113000
DTSTAMP:20260421T182439
CREATED:20231129T195328Z
LAST-MODIFIED:20231129T195328Z
UID:38637-1708594200-1708601400@northfieldartsguild.org
SUMMARY:Beginning & Intermediate Wheel-thrown Pottery
DESCRIPTION:This class is appropriate for adults that are beginners as well as people with some previous experience.
URL:https://northfieldartsguild.org/event/beginning-intermediate-wheel-thrown-pottery/
LOCATION:Northfield Arts Guild\, 304 Division St.\, Northfield\, MN\, 55057\, United States
ATTACH;FMTTYPE=image/png:https://northfieldartsguild.org/wp-content/uploads/Hand-Building-Techniques.png
END:VEVENT
BEGIN:VEVENT
DTSTART;TZID=America/Chicago:20240213T120000
DTEND;TZID=America/Chicago:20240213T170000
DTSTAMP:20260421T182439
CREATED:20231219T182459Z
LAST-MODIFIED:20231219T182459Z
UID:38931-1707825600-1707843600@northfieldartsguild.org
SUMMARY:Main Gallery:  All School Art Show opens
DESCRIPTION:Join us at the Main Gallery at the Guild\, 304 Division Street South in Northfield\, MN
URL:https://northfieldartsguild.org/event/main-gallery-all-school-art-show-opens/
LOCATION:Northfield Arts Guild\, 304 Division St.\, Northfield\, MN\, 55057\, United States
CATEGORIES:Visual Arts
END:VEVENT
BEGIN:VEVENT
DTSTART;TZID=America/Chicago:20240210T120000
DTEND;TZID=America/Chicago:20240210T170000
DTSTAMP:20260421T182439
CREATED:20231219T175359Z
LAST-MODIFIED:20231219T182807Z
UID:38907-1707566400-1707584400@northfieldartsguild.org
SUMMARY:Main Gallery: Anders Nienstaedt & Stephen Mckenzie Closes
DESCRIPTION:
URL:https://northfieldartsguild.org/event/anders-nienstaedt-stephen-mckenzie-closes-in-main-gallery/
LOCATION:Northfield Arts Guild\, 304 Division St.\, Northfield\, MN\, 55057\, United States
CATEGORIES:Visual Arts
END:VEVENT
BEGIN:VEVENT
DTSTART;TZID=America/Chicago:20240210T090000
DTEND;TZID=America/Chicago:20240210T113000
DTSTAMP:20260421T182439
CREATED:20231129T193122Z
LAST-MODIFIED:20231129T194655Z
UID:38565-1707555600-1707564600@northfieldartsguild.org
SUMMARY:Wheel Throwing for Adults Session 2
DESCRIPTION:Discover\, practice and develop the basics of wheel throwing
URL:https://northfieldartsguild.org/event/wheel-throwing-for-adults-session-2-3/2024-02-10/
LOCATION:Northfield Arts Guild\, 304 Division St.\, Northfield\, MN\, 55057\, United States
ATTACH;FMTTYPE=image/png:https://northfieldartsguild.org/wp-content/uploads/Wheel-throwing.png
END:VEVENT
BEGIN:VEVENT
DTSTART;TZID=America/Chicago:20240204T090000
DTEND;TZID=America/Chicago:20240204T110000
DTSTAMP:20260421T182439
CREATED:20231129T192035Z
LAST-MODIFIED:20231129T194129Z
UID:38539-1707037200-1707044400@northfieldartsguild.org
SUMMARY:Clay Fantastique! Session 2
DESCRIPTION:This course is for beginners and focuses on learning and practicing the basic concepts and techniques of wheel throwing.
URL:https://northfieldartsguild.org/event/clay-fantastique-session-2/2024-02-04/
LOCATION:Northfield Arts Guild\, 304 Division St.\, Northfield\, MN\, 55057\, United States
ATTACH;FMTTYPE=image/png:https://northfieldartsguild.org/wp-content/uploads/Clay.png
END:VEVENT
BEGIN:VEVENT
DTSTART;TZID=America/Chicago:20240121T100000
DTEND;TZID=America/Chicago:20240121T140000
DTSTAMP:20260421T182439
CREATED:20231219T182136Z
LAST-MODIFIED:20231219T182257Z
UID:38928-1705831200-1705845600@northfieldartsguild.org
SUMMARY:The Living Body Workshop by Virginia Twins (Gr. 9-12)
DESCRIPTION:Join Twin Cities performers Virginia Twins for a workshop about attentions\, listening and playful experimentation. With the same theater exercises that we use to create our shows\, we will play and imagine together and practice looking at the world in a slightly different way. We believe that theater should be silly and honest\, and while performing can be vulnerable\, it can also be great fun! Our workshops are about connecting to the people who you’re performing with and building confidence on stage. This workshop is relevant for actors\, dancers\, performers of any kind\, or anyone looking to explore their creativity as a moving body. \nat the Guild Art Studio 304 Division Street South in Northfield\, MN \nClass is $25
URL:https://northfieldartsguild.org/event/the-living-body-workshop-by-virginia-twins-gr-9-12/
LOCATION:Northfield Arts Guild\, 304 Division St.\, Northfield\, MN\, 55057\, United States
CATEGORIES:Dance,Education,Music,Special Events,Theater
END:VEVENT
BEGIN:VEVENT
DTSTART;TZID=America/Chicago:20240120T100000
DTEND;TZID=America/Chicago:20240120T120000
DTSTAMP:20260421T182439
CREATED:20231219T181706Z
LAST-MODIFIED:20231219T181706Z
UID:38924-1705744800-1705752000@northfieldartsguild.org
SUMMARY:The Living Body Workshop by Virginia Twins (Adult class)
DESCRIPTION:Join Twin Cities performers Virginia Twins for a workshop about attentions\, listening and playful experimentation. With the same theater exercises that we use to create our shows\, we will play and imagine together and practice looking at the world in a slightly different way. We believe that theater should be silly and honest\, and while performing can be vulnerable\, it can also be great fun! Our workshops are about connecting to the people who you’re performing with and building confidence on stage. This workshop is relevant for actors\, dancers\, performers of any kind\, or anyone looking to explore their creativity as a moving body. \nat the Guild Art Studio 304 Division Street South in Northfield\, MN \nClass is $25
URL:https://northfieldartsguild.org/event/the-living-body-workshop-by-virginia-twins-adult-class/
LOCATION:Northfield Arts Guild\, 304 Division St.\, Northfield\, MN\, 55057\, United States
CATEGORIES:Dance,Music,Special Events,Theater
END:VEVENT
BEGIN:VEVENT
DTSTART;TZID=America/Chicago:20240111T180000
DTEND;TZID=America/Chicago:20240111T200000
DTSTAMP:20260421T182439
CREATED:20231219T174624Z
LAST-MODIFIED:20231219T175608Z
UID:38895-1704996000-1705003200@northfieldartsguild.org
SUMMARY:Artist Reception: Anders Nienstaedt & Stephen Mckenzie
DESCRIPTION:Join us at the Main Gallery at the Guild for all artist receptions. \n304 Division Street\, Northfield\, MN 55057
URL:https://northfieldartsguild.org/event/artist-reception-anders-nienstaedt-stephen-mckenzie/
LOCATION:Northfield Arts Guild\, 304 Division St.\, Northfield\, MN\, 55057\, United States
END:VEVENT
BEGIN:VEVENT
DTSTART;TZID=America/Chicago:20240111T093000
DTEND;TZID=America/Chicago:20240111T113000
DTSTAMP:20260421T182439
CREATED:20231129T195127Z
LAST-MODIFIED:20231129T195127Z
UID:38628-1704965400-1704972600@northfieldartsguild.org
SUMMARY:Hand Building Techniques
DESCRIPTION:This class explores the hand building techniques of pinch\, coil (plus coil variations)\, use of the clay extruder\, and simple slab techniques as well as more complex pieces like covered boxes.
URL:https://northfieldartsguild.org/event/hand-building-techniques/
LOCATION:Northfield Arts Guild\, 304 Division St.\, Northfield\, MN\, 55057\, United States
ATTACH;FMTTYPE=image/png:https://northfieldartsguild.org/wp-content/uploads/Hand-Building-Techniques.png
END:VEVENT
BEGIN:VEVENT
DTSTART;TZID=America/Chicago:20240110T190000
DTEND;TZID=America/Chicago:20240110T200000
DTSTAMP:20260421T182439
CREATED:20231129T201614Z
LAST-MODIFIED:20231129T201614Z
UID:38664-1704913200-1704916800@northfieldartsguild.org
SUMMARY:Bollywood Dance
DESCRIPTION:Come check out the class where you’ll learn some simple and fun choreographies to popular Bollywood songs!
URL:https://northfieldartsguild.org/event/bollywood-dance/
LOCATION:Northfield Arts Guild\, 304 Division St.\, Northfield\, MN\, 55057\, United States
ATTACH;FMTTYPE=image/png:https://northfieldartsguild.org/wp-content/uploads/Time-to-DANCE.png
END:VEVENT
BEGIN:VEVENT
DTSTART;TZID=America/Chicago:20240109T180000
DTEND;TZID=America/Chicago:20240109T200000
DTSTAMP:20260421T182439
CREATED:20231129T200351Z
LAST-MODIFIED:20231129T200351Z
UID:38646-1704823200-1704830400@northfieldartsguild.org
SUMMARY:Shaping Tomorrow: Youth Empowerment and the Future of Media
DESCRIPTION:This educational journey is designed to equip young individuals with the understanding of the media’s history and evolution and to engage them in visualizing its future potential.
URL:https://northfieldartsguild.org/event/shaping-tomorrow-youth-empowerment-and-the-future-of-media/
LOCATION:Northfield Arts Guild\, 304 Division St.\, Northfield\, MN\, 55057\, United States
ATTACH;FMTTYPE=image/png:https://northfieldartsguild.org/wp-content/uploads/Shaping-Tomorrow-Youth-Empowerment-and-the-Future-of-Media-8.5-×-11-in-1.png
END:VEVENT
BEGIN:VEVENT
DTSTART;TZID=America/Chicago:20240109T170000
DTEND;TZID=America/Chicago:20240109T204500
DTSTAMP:20260421T182439
CREATED:20231129T185619Z
LAST-MODIFIED:20231129T190846Z
UID:38487-1704819600-1704833100@northfieldartsguild.org
SUMMARY:Youth Clay- Session 1
DESCRIPTION:Sign up your Kindergarten though 12th grader for a youth clay class this winter! \nKids Clay: 5-6:15pm \nClay for Middle School 6:15-7:30pm \nClay for High School: 7:30-8:45pm \n 
URL:https://northfieldartsguild.org/event/youth-clay-2/2024-01-09/
LOCATION:Northfield Arts Guild\, 304 Division St.\, Northfield\, MN\, 55057\, United States
ATTACH;FMTTYPE=image/jpeg:https://northfieldartsguild.org/wp-content/uploads/clay-tile-5-1.jpg
END:VEVENT
BEGIN:VEVENT
DTSTART;TZID=America/Chicago:20240108T190000
DTEND;TZID=America/Chicago:20240108T200000
DTSTAMP:20260421T182439
CREATED:20231129T201318Z
LAST-MODIFIED:20231129T201318Z
UID:38655-1704740400-1704744000@northfieldartsguild.org
SUMMARY:KPOP Dance
DESCRIPTION:Enjoy some fun\, high-energy hip hop moves to the addicting tunes of KPOP!
URL:https://northfieldartsguild.org/event/kpop-dance/
LOCATION:Northfield Arts Guild\, 304 Division St.\, Northfield\, MN\, 55057\, United States
ATTACH;FMTTYPE=image/png:https://northfieldartsguild.org/wp-content/uploads/Time-to-DANCE.png
END:VEVENT
BEGIN:VEVENT
DTSTART;TZID=America/Chicago:20240106T120000
DTEND;TZID=America/Chicago:20240106T124500
DTSTAMP:20260421T182439
CREATED:20231129T202010Z
LAST-MODIFIED:20231129T202010Z
UID:38672-1704542400-1704545100@northfieldartsguild.org
SUMMARY:Folklorico 1/2
DESCRIPTION:Students will develop body awareness\, alignment and posture while learning fun dances from Jalisco & other regions of Mexico.
URL:https://northfieldartsguild.org/event/folklorico-1-2-2/
LOCATION:Northfield Arts Guild\, 304 Division St.\, Northfield\, MN\, 55057\, United States
ATTACH;FMTTYPE=image/png:https://northfieldartsguild.org/wp-content/uploads/AnaBaez-2.png
END:VEVENT
BEGIN:VEVENT
DTSTART;TZID=America/Chicago:20240106T110000
DTEND;TZID=America/Chicago:20240106T120000
DTSTAMP:20260421T182439
CREATED:20231129T202256Z
LAST-MODIFIED:20231129T202256Z
UID:38686-1704538800-1704542400@northfieldartsguild.org
SUMMARY:Folklorico 3/4
DESCRIPTION:In this multi-generational class\, students will further develop their skills in footwork and ensemble as they learn and polish the dances in the standard repertory of Baile Folklorico.
URL:https://northfieldartsguild.org/event/folklorico-3-4-2/
LOCATION:Northfield Arts Guild\, 304 Division St.\, Northfield\, MN\, 55057\, United States
ATTACH;FMTTYPE=image/png:https://northfieldartsguild.org/wp-content/uploads/AnaBaez-2.png
END:VEVENT
BEGIN:VEVENT
DTSTART;TZID=America/Chicago:20240106T100000
DTEND;TZID=America/Chicago:20240106T110000
DTSTAMP:20260421T182439
CREATED:20231129T202813Z
LAST-MODIFIED:20231129T202813Z
UID:38711-1704535200-1704538800@northfieldartsguild.org
SUMMARY:Folklorico 5/6 Section 2
DESCRIPTION:Students will polish and expand their skills in footwork\, ensemble and choreography as they learn new dances from Mexico’s Baile Folklorico tradition.
URL:https://northfieldartsguild.org/event/folklorico-5-6-section-2-2/
LOCATION:Northfield Arts Guild\, 304 Division St.\, Northfield\, MN\, 55057\, United States
ATTACH;FMTTYPE=image/png:https://northfieldartsguild.org/wp-content/uploads/AnaBaez-2.png
END:VEVENT
BEGIN:VEVENT
DTSTART;TZID=America/Chicago:20240106T090000
DTEND;TZID=America/Chicago:20240106T113000
DTSTAMP:20260421T182439
CREATED:20231129T192957Z
LAST-MODIFIED:20231129T194806Z
UID:38557-1704531600-1704540600@northfieldartsguild.org
SUMMARY:Wheel Throwing for Adults Session 1
DESCRIPTION:Discover\, practice and develop the basics of wheel-throwing\, including but not limited to throwing cylinders bowls and plates\, trimming\, and adding handles.
URL:https://northfieldartsguild.org/event/wheel-throwing-for-adults-session-1-2/2024-01-06/
LOCATION:Northfield Arts Guild\, 304 Division St.\, Northfield\, MN\, 55057\, United States
ATTACH;FMTTYPE=image/png:https://northfieldartsguild.org/wp-content/uploads/Wheel-throwing.png
END:VEVENT
BEGIN:VEVENT
DTSTART;TZID=America/Chicago:20240106T090000
DTEND;TZID=America/Chicago:20240106T100000
DTSTAMP:20260421T182439
CREATED:20231129T202553Z
LAST-MODIFIED:20231129T202553Z
UID:38699-1704531600-1704535200@northfieldartsguild.org
SUMMARY:Folklorico 5/6 Section 2
DESCRIPTION:Students will polish and expand their skills in footwork\, ensemble and choreography as they learn new dances from Mexico’s Baile Folklorico tradition.
URL:https://northfieldartsguild.org/event/folklorico-5-6-section-2/
LOCATION:Northfield Arts Guild\, 304 Division St.\, Northfield\, MN\, 55057\, United States
ATTACH;FMTTYPE=image/png:https://northfieldartsguild.org/wp-content/uploads/AnaBaez-2.png
END:VEVENT
BEGIN:VEVENT
DTSTART;TZID=America/Chicago:20240105T120000
DTEND;TZID=America/Chicago:20240105T170000
DTSTAMP:20260421T182439
CREATED:20231219T175236Z
LAST-MODIFIED:20231219T182651Z
UID:38903-1704456000-1704474000@northfieldartsguild.org
SUMMARY:Main Gallery: Anders Nienstaedt & Stephen Mckenzie Opens
DESCRIPTION:
URL:https://northfieldartsguild.org/event/anders-nienstaedt-stephen-mckenzie-opens-in-main-gallery/
LOCATION:Northfield Arts Guild\, 304 Division St.\, Northfield\, MN\, 55057\, United States
END:VEVENT
BEGIN:VEVENT
DTSTART;TZID=America/Chicago:20231203T090000
DTEND;TZID=America/Chicago:20231203T110000
DTSTAMP:20260421T182439
CREATED:20231129T191758Z
LAST-MODIFIED:20231129T194226Z
UID:38530-1701594000-1701601200@northfieldartsguild.org
SUMMARY:Clay Fantastique! Session 1
DESCRIPTION:This course is for beginners and focuses on learning and practicing the basic concepts and techniques of wheel throwing.
URL:https://northfieldartsguild.org/event/clay-fantastique-session-1/2023-12-03/
LOCATION:Northfield Arts Guild\, 304 Division St.\, Northfield\, MN\, 55057\, United States
ATTACH;FMTTYPE=image/png:https://northfieldartsguild.org/wp-content/uploads/Clay.png
END:VEVENT
BEGIN:VEVENT
DTSTART;TZID=America/Chicago:20221102T180000
DTEND;TZID=America/Chicago:20221102T200000
DTSTAMP:20260421T182439
CREATED:20221014T205500Z
LAST-MODIFIED:20221014T205500Z
UID:35280-1667412000-1667419200@northfieldartsguild.org
SUMMARY:Creating Community Club
DESCRIPTION:The Guild is SO excited to resume hosting Creating Community Club! Creating Community Club is an art club intended for adults on the spectrum or with disabilities. The goal of Creating Community Club is to allow creative expression through art\, while also building relationships and community with others. All skill levels are welcome\, and a variety of crafts will be practiced. Sign up for the full eight weeks\, or for just one week at a time!
URL:https://northfieldartsguild.org/event/creating-community-club/2022-11-02/
LOCATION:Northfield Arts Guild\, 304 Division St.\, Northfield\, MN\, 55057\, United States
END:VEVENT
BEGIN:VEVENT
DTSTART;TZID=America/Chicago:20220929T180000
DTEND;TZID=America/Chicago:20220929T200000
DTSTAMP:20260421T182439
CREATED:20220917T034431Z
LAST-MODIFIED:20220917T034714Z
UID:34715-1664474400-1664481600@northfieldartsguild.org
SUMMARY:Member's Showcase Closing Reception
DESCRIPTION:Join us for a celebration of the annual Member’s Showcase at a closing reception. \n6pm-8pm \nThursday\, September 29.
URL:https://northfieldartsguild.org/event/members-showcase-gallery-reception/
LOCATION:Northfield Arts Guild\, 304 Division St.\, Northfield\, MN\, 55057\, United States
END:VEVENT
BEGIN:VEVENT
DTSTART;TZID=America/Chicago:20220623T180000
DTEND;TZID=America/Chicago:20220623T200000
DTSTAMP:20260421T182439
CREATED:20220513T192828Z
LAST-MODIFIED:20220513T193217Z
UID:33977-1656007200-1656014400@northfieldartsguild.org
SUMMARY:Top Floor Opening Reception
DESCRIPTION:TOP FLOOR EXHIBITION\nJune 9th – July 9th\, 2022 \nDo you ever wonder what is above Division Street\, what happens on the top floors of downtown Northfield? \nThe Top Floor Exhibition is the story of what happens when creativity\, artists and friendship develops from 30 years of being art studio neighbors. Sue Hammes-Knopf\, Jill Ewald\, Susan Crow and Wendell Arneson have been percolating art and design next to each other since 1996. About 6 years ago\, our 3rd floor group was joined by musician Daniel Smith. \nOpening reception on Thursday the 23rd from 6-8 pm.
URL:https://northfieldartsguild.org/event/top-floor-opening-reception/
LOCATION:Northfield Arts Guild\, 304 Division St.\, Northfield\, MN\, 55057\, United States
END:VEVENT
BEGIN:VEVENT
DTSTART;TZID=America/Chicago:20220609T120000
DTEND;TZID=America/Chicago:20220609T170000
DTSTAMP:20260421T182439
CREATED:20220513T193520Z
LAST-MODIFIED:20220513T193520Z
UID:33983-1654776000-1654794000@northfieldartsguild.org
SUMMARY:Top Floor Exhibition Opens
DESCRIPTION:TOP FLOOR EXHIBITION\nJune 9th – July 9th\, 2022 \nDo you ever wonder what is above Division Street\, what happens on the top floors of downtown Northfield? \nThe Top Floor Exhibition is the story of what happens when creativity\, artists and friendship develops from 30 years of being art studio neighbors. Sue Hammes-Knopf\, Jill Ewald\, Susan Crow and Wendell Arneson have been percolating art and design next to each other since 1996. About 6 years ago\, our 3rd floor group was joined by musician Daniel Smith. \nOpening reception on Thursday the 23rd from 6-8 pm. \nClosing Party on Thursday\, July 7th.
URL:https://northfieldartsguild.org/event/top-floor-exhibition-opens/
LOCATION:Northfield Arts Guild\, 304 Division St.\, Northfield\, MN\, 55057\, United States
END:VEVENT
BEGIN:VEVENT
DTSTART;TZID=America/Chicago:20220520T190000
DTEND;TZID=America/Chicago:20220520T210000
DTSTAMP:20260421T182439
CREATED:20220427T213936Z
LAST-MODIFIED:20220427T213959Z
UID:33831-1653073200-1653080400@northfieldartsguild.org
SUMMARY:NHS Honors Art Show Reception
DESCRIPTION:RAIDERS OF THE LOST ART: NORTHFIELD HIGH SCHOOL HONORS ART SHOW\nMay 18th – June 4th \n  \nThe Northfield Arts Guild is proud to host this annual spring exhibition of artworks by students in Katherine Norrie’s Northfield High School Honors Art class. All of the students have worked tirelessly throughout the semester to prepare cohesive and professional bodies of thematic work. \nThe exhibition will showcase works from Kiara Artley\, Jasmin Charlton\, Ayden Cole\, Maya Deschamp\, Grace Dickerson\, Adriana Fleming\, Zoe Frank\, Ada Gabert Nicholson\, Naomi Halls\, Lauren Hendrickson\, Ky Hoover\, Paige Koch\, Ella Mayer\, May McDowell\, Edie Meehan\, Svea Morrell\, Sidra Neitge\, Lynnette Ott\, Julia Peterson\, Mary Rizzo\, Molly Roethler\, Kaitlin Salaba\, Sophia Schewe\, Izzy Sutlief\, and Elinor Upham. \nJoin us for a reception on Friday\, May 20th from 7-9 pm
URL:https://northfieldartsguild.org/event/nhs-honors-art-show-reception/
LOCATION:Northfield Arts Guild\, 304 Division St.\, Northfield\, MN\, 55057\, United States
END:VEVENT
BEGIN:VEVENT
DTSTART;TZID=America/Chicago:20220518T120000
DTEND;TZID=America/Chicago:20220518T170000
DTSTAMP:20260421T182439
CREATED:20220503T193122Z
LAST-MODIFIED:20220503T193122Z
UID:33850-1652875200-1652893200@northfieldartsguild.org
SUMMARY:NHS Honors Art Show Opening
DESCRIPTION:RAIDERS OF THE LOST ART: NORTHFIELD HIGH SCHOOL HONORS ART SHOW OPENING DAY\nMay 18th – June 4th \nThe Northfield Arts Guild is proud to host this annual spring exhibition of artworks by students in Northfield High School’s Honors Art class. All of the students have worked tirelessly throughout the semester to prepare cohesive and professional bodies of thematic work. \nThe exhibition will showcase works from Kiara Artley\, Jasmin Charlton\, Ayden Cole\, Maya Deschamp\, Grace Dickerson\, Adriana Fleming\, Zoe Frank\, Ada Gabert Nicholson\, Naomi Halls\, Lauren Hendrickson\, Ky Hoover\, Paige Koch\, Ella Mayer\, May McDowell\, Edie Meehan\, Svea Morrell\, Sidra Neitge\, Lynnette Ott\, Julia Peterson\, Mary Rizzo\, Molly Roethler\, Kaitlin Salaba\, Sophia Schewe\, Izzy Sutlief\, and Elinor Upham.
URL:https://northfieldartsguild.org/event/nhs-honors-art-show-opening/
LOCATION:Northfield Arts Guild\, 304 Division St.\, Northfield\, MN\, 55057\, United States
END:VEVENT
END:VCALENDAR