BEGIN:VCALENDAR
VERSION:2.0
PRODID:-//Northfield Arts Guild - ECPv6.15.19//NONSGML v1.0//EN
CALSCALE:GREGORIAN
METHOD:PUBLISH
X-ORIGINAL-URL:https://northfieldartsguild.org
X-WR-CALDESC:Events for Northfield Arts Guild
REFRESH-INTERVAL;VALUE=DURATION:PT1H
X-Robots-Tag:noindex
X-PUBLISHED-TTL:PT1H
BEGIN:VTIMEZONE
TZID:America/Chicago
BEGIN:DAYLIGHT
TZOFFSETFROM:-0600
TZOFFSETTO:-0500
TZNAME:CDT
DTSTART:20180311T080000
END:DAYLIGHT
BEGIN:STANDARD
TZOFFSETFROM:-0500
TZOFFSETTO:-0600
TZNAME:CST
DTSTART:20181104T070000
END:STANDARD
BEGIN:DAYLIGHT
TZOFFSETFROM:-0600
TZOFFSETTO:-0500
TZNAME:CDT
DTSTART:20190310T080000
END:DAYLIGHT
BEGIN:STANDARD
TZOFFSETFROM:-0500
TZOFFSETTO:-0600
TZNAME:CST
DTSTART:20191103T070000
END:STANDARD
BEGIN:DAYLIGHT
TZOFFSETFROM:-0600
TZOFFSETTO:-0500
TZNAME:CDT
DTSTART:20200308T080000
END:DAYLIGHT
BEGIN:STANDARD
TZOFFSETFROM:-0500
TZOFFSETTO:-0600
TZNAME:CST
DTSTART:20201101T070000
END:STANDARD
END:VTIMEZONE
BEGIN:VEVENT
DTSTART;TZID=America/Chicago:20190926T193000
DTEND;TZID=America/Chicago:20190926T210000
DTSTAMP:20260421T202226
CREATED:20190424T221935Z
LAST-MODIFIED:20190424T221935Z
UID:19784-1569526200-1569531600@northfieldartsguild.org
SUMMARY:CASTastrophe 2
DESCRIPTION:Northfield’s brightest stars perform songs and scenes from roles in which they would NEVER be cast. The results are a thrilling and hilarious musical revue!  In fact\, it’s so much fun\, we’ve brought it back for a second year to honor and benefit the Guild. \nJoin the Guild and Rebound Enterprises as they present the 2nd year of a blow-the-doors-off-CASTastrophe!  It’s SO big this year\, we’re performing at Armory Square! \nPerformances: \nThursday\, September 26\, 2019 @ 7:30pm\nFriday\, September 27\, 2019 @ 7:30 pm\nSaturday\, September 28\, 2019 @ 7:30 pm\nSunday\, September 29\, 2019 @ 2:00 pm\n \nVenue:  Armory Square\, 519 Division St S\, Northfield \n\n \nCASTastrophe 2 is sponsored and made possible by: \n\n 
URL:https://northfieldartsguild.org/event/castastrophe-2/2019-09-26/
LOCATION:Armory Square\, 519 Division Street\, Northfield\, MN\, 55057\, United States
CATEGORIES:Music,Special Events,Theater
ATTACH;FMTTYPE=:
GEO:44.4543123;-93.1596744
X-APPLE-STRUCTURED-LOCATION;VALUE=URI;X-ADDRESS=Armory Square 519 Division Street Northfield MN 55057 United States;X-APPLE-RADIUS=500;X-TITLE=519 Division Street:geo:-93.1596744,44.4543123
END:VEVENT
END:VCALENDAR