BEGIN:VCALENDAR
VERSION:2.0
PRODID:-//Northfield Arts Guild - ECPv6.15.19//NONSGML v1.0//EN
CALSCALE:GREGORIAN
METHOD:PUBLISH
X-ORIGINAL-URL:https://northfieldartsguild.org
X-WR-CALDESC:Events for Northfield Arts Guild
REFRESH-INTERVAL;VALUE=DURATION:PT1H
X-Robots-Tag:noindex
X-PUBLISHED-TTL:PT1H
BEGIN:VTIMEZONE
TZID:America/Chicago
BEGIN:DAYLIGHT
TZOFFSETFROM:-0600
TZOFFSETTO:-0500
TZNAME:CDT
DTSTART:20190310T080000
END:DAYLIGHT
BEGIN:STANDARD
TZOFFSETFROM:-0500
TZOFFSETTO:-0600
TZNAME:CST
DTSTART:20191103T070000
END:STANDARD
BEGIN:DAYLIGHT
TZOFFSETFROM:-0600
TZOFFSETTO:-0500
TZNAME:CDT
DTSTART:20200308T080000
END:DAYLIGHT
BEGIN:STANDARD
TZOFFSETFROM:-0500
TZOFFSETTO:-0600
TZNAME:CST
DTSTART:20201101T070000
END:STANDARD
BEGIN:DAYLIGHT
TZOFFSETFROM:-0600
TZOFFSETTO:-0500
TZNAME:CDT
DTSTART:20210314T080000
END:DAYLIGHT
BEGIN:STANDARD
TZOFFSETFROM:-0500
TZOFFSETTO:-0600
TZNAME:CST
DTSTART:20211107T070000
END:STANDARD
END:VTIMEZONE
BEGIN:VEVENT
DTSTART;TZID=America/Chicago:20200129T180000
DTEND;TZID=America/Chicago:20200129T200000
DTSTAMP:20260425T103541
CREATED:20191216T203811Z
LAST-MODIFIED:20200108T215142Z
UID:24201-1580320800-1580328000@northfieldartsguild.org
SUMMARY:Auditions for Grey Gardens
DESCRIPTION:The Guild Theater and director Mishia Edwards are excited to see performers for Grey Gardens in late January/early February. Actors will be seen the evening of Wednesday\, January 29 or the afternoon of Saturday\, February 1\, with callbacks the afternoon of Sunday\, February 2. More information and registration can be found on our auditions page.
URL:https://northfieldartsguild.org/event/auditions-for-grey-gardens/2020-01-29/
LOCATION:Northfield Arts Guild\, 304 Division St.\, Northfield\, MN\, 55057\, United States
CATEGORIES:Theater
ATTACH;FMTTYPE=image/jpeg:https://northfieldartsguild.org/wp-content/uploads/Grey-Gardens-logo-e1572624942805.jpg
END:VEVENT
END:VCALENDAR