BEGIN:VCALENDAR
VERSION:2.0
PRODID:-//Northfield Arts Guild - ECPv6.15.19//NONSGML v1.0//EN
CALSCALE:GREGORIAN
METHOD:PUBLISH
X-ORIGINAL-URL:https://northfieldartsguild.org
X-WR-CALDESC:Events for Northfield Arts Guild
REFRESH-INTERVAL;VALUE=DURATION:PT1H
X-Robots-Tag:noindex
X-PUBLISHED-TTL:PT1H
BEGIN:VTIMEZONE
TZID:America/Chicago
BEGIN:DAYLIGHT
TZOFFSETFROM:-0600
TZOFFSETTO:-0500
TZNAME:CDT
DTSTART:20200308T080000
END:DAYLIGHT
BEGIN:STANDARD
TZOFFSETFROM:-0500
TZOFFSETTO:-0600
TZNAME:CST
DTSTART:20201101T070000
END:STANDARD
BEGIN:DAYLIGHT
TZOFFSETFROM:-0600
TZOFFSETTO:-0500
TZNAME:CDT
DTSTART:20210314T080000
END:DAYLIGHT
BEGIN:STANDARD
TZOFFSETFROM:-0500
TZOFFSETTO:-0600
TZNAME:CST
DTSTART:20211107T070000
END:STANDARD
BEGIN:DAYLIGHT
TZOFFSETFROM:-0600
TZOFFSETTO:-0500
TZNAME:CDT
DTSTART:20220313T080000
END:DAYLIGHT
BEGIN:STANDARD
TZOFFSETFROM:-0500
TZOFFSETTO:-0600
TZNAME:CST
DTSTART:20221106T070000
END:STANDARD
END:VTIMEZONE
BEGIN:VEVENT
DTSTART;VALUE=DATE:20210610
DTEND;VALUE=DATE:20210611
DTSTAMP:20260424T095610
CREATED:20210514T181557Z
LAST-MODIFIED:20210528T175216Z
UID:30197-1623283200-1623369599@northfieldartsguild.org
SUMMARY:INSIDE/OUTSIDE Opens
DESCRIPTION:INSIDE/OUTSIDE\n\nJune 10-July 10\, 2021\n\n\nThis exhibition features four regional artists: Lonnie Broden\, John Ehresmann\, Jay Johnson\, and Gunnar Van Guilder who will present works in collage\, polymer sculpture\, photography\, and paintings which examine compelling indoor and outdoor settings.  \nThrough a variety of approaches\, the artists in this exhibition explore themes of nature\, shelter\, history and human impact using representational and abstract methods. This exhibition invites viewers to reflect on how the natural world and human-made environments affect our sense of place.
URL:https://northfieldartsguild.org/event/inside-outside-opens/
LOCATION:MN
CATEGORIES:Special Events,Visual Arts
ATTACH;FMTTYPE=image/png:https://northfieldartsguild.org/wp-content/uploads/Banner-Inside-Outside-no-dates.png
END:VEVENT
END:VCALENDAR