BEGIN:VCALENDAR
VERSION:2.0
PRODID:-//Northfield Arts Guild - ECPv6.15.19//NONSGML v1.0//EN
CALSCALE:GREGORIAN
METHOD:PUBLISH
X-ORIGINAL-URL:https://northfieldartsguild.org
X-WR-CALDESC:Events for Northfield Arts Guild
REFRESH-INTERVAL;VALUE=DURATION:PT1H
X-Robots-Tag:noindex
X-PUBLISHED-TTL:PT1H
BEGIN:VTIMEZONE
TZID:America/Chicago
BEGIN:DAYLIGHT
TZOFFSETFROM:-0600
TZOFFSETTO:-0500
TZNAME:CDT
DTSTART:20140309T080000
END:DAYLIGHT
BEGIN:STANDARD
TZOFFSETFROM:-0500
TZOFFSETTO:-0600
TZNAME:CST
DTSTART:20141102T070000
END:STANDARD
BEGIN:DAYLIGHT
TZOFFSETFROM:-0600
TZOFFSETTO:-0500
TZNAME:CDT
DTSTART:20150308T080000
END:DAYLIGHT
BEGIN:STANDARD
TZOFFSETFROM:-0500
TZOFFSETTO:-0600
TZNAME:CST
DTSTART:20151101T070000
END:STANDARD
BEGIN:DAYLIGHT
TZOFFSETFROM:-0600
TZOFFSETTO:-0500
TZNAME:CDT
DTSTART:20160313T080000
END:DAYLIGHT
BEGIN:STANDARD
TZOFFSETFROM:-0500
TZOFFSETTO:-0600
TZNAME:CST
DTSTART:20161106T070000
END:STANDARD
END:VTIMEZONE
BEGIN:VEVENT
DTSTART;TZID=America/Chicago:20150829T193000
DTEND;TZID=America/Chicago:20150829T220000
DTSTAMP:20260424T041918
CREATED:20150612T174820Z
LAST-MODIFIED:20150612T174820Z
UID:5117-1440876600-1440885600@northfieldartsguild.org
SUMMARY:Art & Ale
DESCRIPTION:See art. Hear art. Make art. Taste art! \n BUY TICKETS \nThis fundraiser\, benefiting the Northfield Arts Guild\, promises a night filled with art in all kinds of forms: a live musical hootenanny\, samplings of local homebrew and craft beer\, the final night of the Northfield Teachers gallery show\, and grown up make-and-take art projects! \nHomebrew samples will be available from local brewers including Randy Clay\, Eric Hazlett\, Gabe Meerts\, Jacob Melby\, and Meetinghouse Brewery in Dundas (Brad Magerkuth and Andrew Burns). College City Beverage will also be sampling beverages from various craft breweries. Light snacks will also be available throughout the night. \nA musical “hootenanny” will start around 8 pm and feature sets of songs from the night’s MC\, Daniel Groll of The Counterfactuals\, Chris Koza\, Michael Ferrier from Fathom Lane\, Wendy Smith from Wendy Smith and the Zillionaires\, Alison Rae\, and Anna Marie Mitchell. \nGallery exhibit featuring work from current art teachers in Northfield Public Schools will be on display\, and the Gift Shop will be open\, too\, to see examples from a wide variety of NAG member artists. \nAttendees can also get their creative side on through art-making activities. Staff and volunteers will be showing folks how to make or personalize their own beer mug\, or coasters in the NAG Clay Studio. Plus professional printmaker Jan Shoger will be helping attendees create beautiful (and easy!) prints in the NAG Art Studio. \nTickets are $40 for a single ticket\, $35/each for two or more tickets. Bring your friends!
URL:https://northfieldartsguild.org/event/art-ale/
LOCATION:Center for the Arts\, 304 Division Street\, Northfield\, MN\, 55057\, United States
CATEGORIES:fundraiser,Music,Special Events,Visual Arts
ATTACH;FMTTYPE=:
GEO:44.4631662;-93.1557115
X-APPLE-STRUCTURED-LOCATION;VALUE=URI;X-ADDRESS=Center for the Arts 304 Division Street Northfield MN 55057 United States;X-APPLE-RADIUS=500;X-TITLE=304 Division Street:geo:-93.1557115,44.4631662
END:VEVENT
BEGIN:VEVENT
DTSTART;TZID=America/Chicago:20150822T100000
DTEND;TZID=America/Chicago:20150822T120000
DTSTAMP:20260424T041918
CREATED:20150522T222949Z
LAST-MODIFIED:20150522T222949Z
UID:5054-1440237600-1440244800@northfieldartsguild.org
SUMMARY:Family Fun Day!
DESCRIPTION:Stop on by the Northfield Arts Guild for our final Family Fun Day of the summer and enjoy a wealth of (FREE!) family-friendly art activities\, mini-classes\, and more! Kids are also encouraged to bring art work from home that they would like to trade at our “KidsArt Trading Post.” AND Booker\, the Northfield Book Mobile\, will be here during the whole event! \n10:00–Family Fun Day begins!\n10:30 am–Family Yoga with Shari Setchell\n11:15 am–Folklorico mini-class with Folklorico Team instructors\n12:00 pm–Family Fun Day ends\nSupported by
URL:https://northfieldartsguild.org/event/family-fun-day-3/
LOCATION:Center for the Arts\, 304 Division Street\, Northfield\, MN\, 55057\, United States
CATEGORIES:Education,Special Events
ATTACH;FMTTYPE=:
GEO:44.4631662;-93.1557115
X-APPLE-STRUCTURED-LOCATION;VALUE=URI;X-ADDRESS=Center for the Arts 304 Division Street Northfield MN 55057 United States;X-APPLE-RADIUS=500;X-TITLE=304 Division Street:geo:-93.1557115,44.4631662
END:VEVENT
BEGIN:VEVENT
DTSTART;TZID=America/Chicago:20150820T190000
DTEND;TZID=America/Chicago:20150820T200000
DTSTAMP:20260424T041918
CREATED:20150812T204316Z
LAST-MODIFIED:20150812T204316Z
UID:5655-1440097200-1440100800@northfieldartsguild.org
SUMMARY:Read and Sing Opera!
DESCRIPTION:It’s a new perspective on storytelling that is exciting and intriguing for all ages.\nWatch as a professional opera singer gives a new perspective on reading as Minnesota Opera presents an innovative program bridging traditional storytelling and music. In READ AND SING OPERA\, a Teaching Artist will use songs and tools from operatic and classical singing to enhance\, inspire and help children engage in reading. Children will see a book come to life with excerpts of arias and animated characterizations throughout the reading\, as well as be invited to sing along to parts of the book. A craft project will conclude the story hour. \nBooks for Northfield Library:\nWestward Ho\, Carlotta by Candice Flemming\nOpera Cat by Tess Weaver \nThis special program is made possible by the Friends and Foundation of the Library.
URL:https://northfieldartsguild.org/event/read-and-sing-opera/
LOCATION:Center for the Arts\, 304 Division Street\, Northfield\, MN\, 55057\, United States
CATEGORIES:Education,Music,Special Events
ATTACH;FMTTYPE=:
GEO:44.4631662;-93.1557115
X-APPLE-STRUCTURED-LOCATION;VALUE=URI;X-ADDRESS=Center for the Arts 304 Division Street Northfield MN 55057 United States;X-APPLE-RADIUS=500;X-TITLE=304 Division Street:geo:-93.1557115,44.4631662
END:VEVENT
BEGIN:VEVENT
DTSTART;TZID=America/Chicago:20150730T193000
DTEND;TZID=America/Chicago:20150730T193000
DTSTAMP:20260424T041918
CREATED:20150609T195412Z
LAST-MODIFIED:20150609T195412Z
UID:5103-1438284600-1438284600@northfieldartsguild.org
SUMMARY:YPTW 25th Anniversary Celebration
DESCRIPTION:Following the Thursday\, July 30th 5:30pm YPTW performance\, community members are invited to celebrate the 25th Anniversary with an ice-cream social. The celebration will begin about 7:30 and includes a special ceremony to honor YPTW’s founders\, Myrna Johnson and Patsy Dew. Community members are encouraged to attend the performance prior.  \nThe Northfield Arts Guild is thrilled to celebrate 25 years of their Young People’s Theater Workshop\, often referred to as YPTW. This long-standing summer theater camp offers an exceptional theater arts education with experiences in both playwrighting and performance. The three-week workshop\, which occurs twice each summer\, concludes with three public performances of original scripts written and acted by the students! Over 1200 individual students have participated since the program began. The program is currently directed by local favorite\, Bob Gregory-Bjorklund.  Tickets for the YPTW performances are $5.00 for adults\, $3.00 for students and seniors. Tickets can be purchased by calling 507-645-8877\, in person at the Northfield Arts Guild office\, 304 Division Street S.\, or at the door. The Ice Cream Social on Thursday\, July 30 at approximately 7:30 pm is free and open to the public. \nSpecial thanks to the 25th Anniversary Celebration sponsors for their in-kind donations:\n 
URL:https://northfieldartsguild.org/event/yptw-25th-anniversary-celebration/
LOCATION:Arcadia Charter School\, 1719 Cannon Rd\, Northfield\, MN\, 55057\, United States
CATEGORIES:Education,Special Events,Theater
ATTACH;FMTTYPE=:
GEO:44.4396257;-93.1848966
X-APPLE-STRUCTURED-LOCATION;VALUE=URI;X-ADDRESS=Arcadia Charter School 1719 Cannon Rd Northfield MN 55057 United States;X-APPLE-RADIUS=500;X-TITLE=1719 Cannon Rd:geo:-93.1848966,44.4396257
END:VEVENT
BEGIN:VEVENT
DTSTART;TZID=America/Chicago:20150723T090000
DTEND;TZID=America/Chicago:20150723T110000
DTSTAMP:20260424T041918
CREATED:20150522T222037Z
LAST-MODIFIED:20150522T222037Z
UID:5052-1437642000-1437649200@northfieldartsguild.org
SUMMARY:Family Fun Day!
DESCRIPTION:Stop on by the Northfield Arts Guild and enjoy a wealth of (FREE!) family-friendly art activities\, mini-classes\, and more! \nThe July 23 Family Fun Day\, happening during downtown Northfield’s annual Crazy Daze celebration\, will feature: \n\nAnimation Station with Peter Nelson*\n\n\nInterested in animation? Want to try it yourself? Local artist Peter Nelson will facilitate a stop-motion animation workshop at which participants are invited to create a summer-themed animation. At the end of the workshop the animation will be projected for everyone to enjoy.\n\nPeter will also screen an original animation based on the true-life story of his grandmother. He will demonstrate how the animation was made\, exhibit miniature sets and puppets\, and answer questions about his project.Come for two minutes or two hours! This fun and easy event is appropriate for kids (and adults) of all ages and requires no previous experience.\n\n\n\n“KidsArt Trading Post”\nKids bring their own creations to exchange for other youth artwork!\nFolk Dancing Mini-Classes with Kate Stuart\n\n  \n*This activity is made possible by the generosity of the McKnight Foundation through a grant from the Southeastern Minnesota Arts Council. Support for this project is also provided by the Olson Endowment for Marriage and Family and the CURI (Collaborative Undergraduate Research and Inquiry) Program at St. Olaf College. Special thanks to the Northfield Arts Guild for hosting this event. \n 
URL:https://northfieldartsguild.org/event/family-fun-day-2/
LOCATION:Center for the Arts\, 304 Division Street\, Northfield\, MN\, 55057\, United States
CATEGORIES:Education,Special Events
ATTACH;FMTTYPE=:
GEO:44.4631662;-93.1557115
X-APPLE-STRUCTURED-LOCATION;VALUE=URI;X-ADDRESS=Center for the Arts 304 Division Street Northfield MN 55057 United States;X-APPLE-RADIUS=500;X-TITLE=304 Division Street:geo:-93.1557115,44.4631662
END:VEVENT
BEGIN:VEVENT
DTSTART;TZID=America/Chicago:20150629T120000
DTEND;TZID=America/Chicago:20150629T130000
DTSTAMP:20260424T041918
CREATED:20150505T215508Z
LAST-MODIFIED:20150505T215508Z
UID:4953-1435579200-1435582800@northfieldartsguild.org
SUMMARY:Lunch & Learn: Papercutter Alice Masek
DESCRIPTION:Alice Helen Masek will share photos of her large scale papaercut works with a focus on the many different ways she did research to inform her images and details. Photos\, stories shared\, questions and answers will take about 45 minutes during which participants will have the option to experience cutting smaller scale pieces from her designs. \nLater that evening\, Masek will hold an in-depth\, hands-on papercutting workshop at the Northfield United Methodist Church from 6:30-8:30 pm. No experience is necessary. Participants will try their hand at making a paper-cut butterfly (approximately 7 inches by 10 inches). Examples of the papercut butterflies participants will create are on display at the Church through June 29th.  Participants are strongly encouraged to make a $5 donation to the Church to offset the cost of materials. \nAlice Helen Masek\,  M.A. in Spirituality from Pacific School of Religion 1995\, is based in Castro Valley\, California\, (San Francisco East Bay area) from which she has travelled seventeen years for a nationwide ecumenical ministry of group-cut large scale papercuttings with churches\, religious orders\, and social service organizations. Through her membership in the Guild of American Papercutters\, she was invited to the Second International Festival of the Art of Papercutting in Huhhot\, Inner Mongolia (a province of People’s Republic of China) in August of 2006\, and her large art travelled with the Festival exhibit to cities in China\, Taiwan\, and Europe. She has created over 200 large designs which have homes from Hawaii to Eastern USA\, and from as far north as Kotzebue\, Alaska to as far south as Cuernavaca Mexico.   Most recently (2015) she has offered a cutting session at University of California Santa Cruz and will do so again in August\, with an exhibit of her work there in 2016.
URL:https://northfieldartsguild.org/event/lunch-learn-papercutter-alice-masek/
LOCATION:Center for the Arts\, 304 Division Street\, Northfield\, MN\, 55057\, United States
CATEGORIES:Special Events,Visual Arts
ATTACH;FMTTYPE=:
GEO:44.4631662;-93.1557115
X-APPLE-STRUCTURED-LOCATION;VALUE=URI;X-ADDRESS=Center for the Arts 304 Division Street Northfield MN 55057 United States;X-APPLE-RADIUS=500;X-TITLE=304 Division Street:geo:-93.1557115,44.4631662
END:VEVENT
BEGIN:VEVENT
DTSTART;TZID=America/Chicago:20150627T100000
DTEND;TZID=America/Chicago:20150627T120000
DTSTAMP:20260424T041918
CREATED:20150522T221724Z
LAST-MODIFIED:20150522T221724Z
UID:5050-1435399200-1435406400@northfieldartsguild.org
SUMMARY:Family Fun Day!
DESCRIPTION:Stop on by the Northfield Arts Guild and enjoy a wealth of (FREE!) family-friendly art activities\, mini-classes\, and more! Kids are also encouraged to bring art work from home that they would like to trade at our “KidsArt Trading Post”  Every day will have new stuff to try! \nSchedule of events: \n\n10:15 am–Folk Dancing class for the whole family with Kate Stuart\n11:00 am–Folklorico dancing mini-class with Ana Baez\nBooker\, the Northfield Book Mobile\, will be here during the whole event!
URL:https://northfieldartsguild.org/event/family-fun-day/
LOCATION:Center for the Arts\, 304 Division Street\, Northfield\, MN\, 55057\, United States
CATEGORIES:Education,Special Events
ATTACH;FMTTYPE=:
GEO:44.4631662;-93.1557115
X-APPLE-STRUCTURED-LOCATION;VALUE=URI;X-ADDRESS=Center for the Arts 304 Division Street Northfield MN 55057 United States;X-APPLE-RADIUS=500;X-TITLE=304 Division Street:geo:-93.1557115,44.4631662
END:VEVENT
BEGIN:VEVENT
DTSTART;TZID=America/Chicago:20150530T090000
DTEND;TZID=America/Chicago:20150530T140000
DTSTAMP:20260424T041918
CREATED:20150412T044634Z
LAST-MODIFIED:20150412T044634Z
UID:4762-1432976400-1432994400@northfieldartsguild.org
SUMMARY:Volunteer Clean Up Day!
DESCRIPTION:We’ll be painting\, doing yard work\, fixing things\, deep cleaning\, and getting the building ready to shine for next season! Come dressed in work clothes\, and stay for as long as you can. Food and refreshments will be provided. Please sign up by emailing office@northfieldartsguild.org or call 507-645-8877.
URL:https://northfieldartsguild.org/event/volunteer-clean-up-day/
LOCATION:Arts Guild Theater\, 411 West Third Street\, Northfield\, MN\, 55057\, United States
CATEGORIES:Special Events
ATTACH;FMTTYPE=:
GEO:44.457013;-93.165829
X-APPLE-STRUCTURED-LOCATION;VALUE=URI;X-ADDRESS=Arts Guild Theater 411 West Third Street Northfield MN 55057 United States;X-APPLE-RADIUS=500;X-TITLE=411 West Third Street:geo:-93.165829,44.457013
END:VEVENT
BEGIN:VEVENT
DTSTART;TZID=America/Chicago:20150522T190000
DTEND;TZID=America/Chicago:20150522T203000
DTSTAMP:20260424T041918
CREATED:20150412T045943Z
LAST-MODIFIED:20150412T045943Z
UID:4768-1432321200-1432326600@northfieldartsguild.org
SUMMARY:5th Annual Latino Play Festival
DESCRIPTION:Featuring the original works of the Latino Performing Arts Class at the Northfield High School. \nSuggested donation: $15 (all proceeds benefiting the Latino Performing Arts Class)
URL:https://northfieldartsguild.org/event/5th-annual-latino-play-festival-2/2015-05-22/
LOCATION:Arts Guild Theater\, 411 West Third Street\, Northfield\, MN\, 55057\, United States
CATEGORIES:Special Events,Theater
GEO:44.457013;-93.165829
X-APPLE-STRUCTURED-LOCATION;VALUE=URI;X-ADDRESS=Arts Guild Theater 411 West Third Street Northfield MN 55057 United States;X-APPLE-RADIUS=500;X-TITLE=411 West Third Street:geo:-93.165829,44.457013
END:VEVENT
BEGIN:VEVENT
DTSTART;TZID=America/Chicago:20150515T190000
DTEND;TZID=America/Chicago:20150515T203000
DTSTAMP:20260424T041918
CREATED:20150412T045825Z
LAST-MODIFIED:20150412T045825Z
UID:4766-1431716400-1431721800@northfieldartsguild.org
SUMMARY:5th Annual Latino Play Festival
DESCRIPTION:Featuring the original works of the Latino Performing Arts Class at the Northfield High School. \nSuggested donation: $15 (all proceeds benefiting the Latino Performing Arts Class)
URL:https://northfieldartsguild.org/event/5th-annual-latino-play-festival/2015-05-15/
LOCATION:Arts Guild Theater\, 411 West Third Street\, Northfield\, MN\, 55057\, United States
CATEGORIES:Special Events,Theater
GEO:44.457013;-93.165829
X-APPLE-STRUCTURED-LOCATION;VALUE=URI;X-ADDRESS=Arts Guild Theater 411 West Third Street Northfield MN 55057 United States;X-APPLE-RADIUS=500;X-TITLE=411 West Third Street:geo:-93.165829,44.457013
END:VEVENT
BEGIN:VEVENT
DTSTART;TZID=America/Chicago:20150420T190000
DTEND;TZID=America/Chicago:20150420T200000
DTSTAMP:20260424T041918
CREATED:20150412T042034Z
LAST-MODIFIED:20150412T042034Z
UID:4753-1429556400-1429560000@northfieldartsguild.org
SUMMARY:Special Members' Meeting
DESCRIPTION:We have many new and exciting things happening at the Arts Guild that we are calling a Special Members’ Meeting to share all of this great news! The 2015-2016 Theater Season will be announced along with a giveaway of two free theater season passes (must be present to win)! Meet and hear from our new Executive Director\, Alyssa Herzog Melby\, and the Arts Guild’s new direction\, financial updates\, and staff changes. Vote in new board members (click on their names below to read more about them) and hear about the new board governance model. Hope to see you there! \nIncoming Board Members\nSusan Carlson \nTim Madigan\nWendy Placko\nPeggy Sheldon \n***Our Annual Members’ Meeting takes place in the Fall of the start of our fiscal year. Check back here for date and time.
URL:https://northfieldartsguild.org/event/special-members-meeting/
LOCATION:Center for the Arts\, 304 Division Street\, Northfield\, MN\, 55057\, United States
CATEGORIES:Special Events
ATTACH;FMTTYPE=:
GEO:44.4631662;-93.1557115
X-APPLE-STRUCTURED-LOCATION;VALUE=URI;X-ADDRESS=Center for the Arts 304 Division Street Northfield MN 55057 United States;X-APPLE-RADIUS=500;X-TITLE=304 Division Street:geo:-93.1557115,44.4631662
END:VEVENT
BEGIN:VEVENT
DTSTART;TZID=America/Chicago:20150416T191500
DTEND;TZID=America/Chicago:20150416T210000
DTSTAMP:20260424T041918
CREATED:20150401T172744Z
LAST-MODIFIED:20150401T172744Z
UID:4495-1429211700-1429218000@northfieldartsguild.org
SUMMARY:For the Love of Cities
DESCRIPTION:Two Events about Cities\, Planning\, and Northfield\n Where and When: \n\nOn April 16\, Thursday\, the Northfield Arts and Culture Commission is sponsoring a discussion of the book For the Love of Cities: The Love Affair between People and their Places\, by Peter Kageyama. The April 16 event will take place from 7:15 to 9:00 p.m. around the fireplace in the Great Hall at Carleton College. (You can order the book at Content Bookstore\, downtown.)\nOn April 23\, Thursday\, ACC will sponsor a viewing of the TED Talk featuring Kageyama\, followed by a panel discussion of his ideas. The moderator will be Suzie Nakasian\, Council Member\, First Ward; respondents will include Scott Bradley\, MnDOT Office of Environmental Stewardship\, Director of Context Sensitive Solutions; and Nick Haggenmiller\, City Manager of Northfield. The event will take place from 7:15 to 9:00 p.m. at the Weitz Center for Creativity Cinema.\n\nWho’s Involved: \n\nThe main sponsor of the events is the Arts and Culture Commission\, which works with the Council to advance the arts as a vital part of city identity. Event co-sponsors include the Northfield Library\, the Northfield Arts Guild\, and the Beautify Northfield Coalition\, but there are many organizations involved in planning.\n\nWhy? \n\nRecently Northfield has seen an outpouring of thinking and planning about the future of the city\, including discussions of built environment\, cultural life\, and economic planning. Bridge Square planning\, Roundtable work on models of urban design\, including an “arts corridor”; and deliberations by the City Council about Rte. 3 re-design options . . . all of these discussions are shaping the future and livability of the city. Discussion of Kageyama’s book is an opportunity for people to think about what they love about their city and want to develop for the future.\n\nWho’s Kageyama? \n\nKageyama\, former president of Creative Tampa Bay\, is the co-founder and producer of the Creative Cities Summit\, an interdisciplinary event that brings together citizens and practitioners around the big idea of the city. In his book\, he explores how city leaders and citizens have identified and developed their emotional connections with their cities\, opening up new possibilities for community\, social\, and economic developmen
URL:https://northfieldartsguild.org/event/for-the-love-of-cities/2015-04-16/
LOCATION:Carleton College\, One North College Street\, Northfield\, MN\, 55057\, United States
CATEGORIES:Special Events
GEO:44.4613533;-93.1560904
X-APPLE-STRUCTURED-LOCATION;VALUE=URI;X-ADDRESS=Carleton College One North College Street Northfield MN 55057 United States;X-APPLE-RADIUS=500;X-TITLE=One North College Street:geo:-93.1560904,44.4613533
END:VEVENT
END:VCALENDAR