BEGIN:VCALENDAR
VERSION:2.0
PRODID:-//Northfield Arts Guild - ECPv6.15.19//NONSGML v1.0//EN
CALSCALE:GREGORIAN
METHOD:PUBLISH
X-ORIGINAL-URL:https://northfieldartsguild.org
X-WR-CALDESC:Events for Northfield Arts Guild
REFRESH-INTERVAL;VALUE=DURATION:PT1H
X-Robots-Tag:noindex
X-PUBLISHED-TTL:PT1H
BEGIN:VTIMEZONE
TZID:America/Chicago
BEGIN:DAYLIGHT
TZOFFSETFROM:-0600
TZOFFSETTO:-0500
TZNAME:CDT
DTSTART:20200308T080000
END:DAYLIGHT
BEGIN:STANDARD
TZOFFSETFROM:-0500
TZOFFSETTO:-0600
TZNAME:CST
DTSTART:20201101T070000
END:STANDARD
BEGIN:DAYLIGHT
TZOFFSETFROM:-0600
TZOFFSETTO:-0500
TZNAME:CDT
DTSTART:20210314T080000
END:DAYLIGHT
BEGIN:STANDARD
TZOFFSETFROM:-0500
TZOFFSETTO:-0600
TZNAME:CST
DTSTART:20211107T070000
END:STANDARD
BEGIN:DAYLIGHT
TZOFFSETFROM:-0600
TZOFFSETTO:-0500
TZNAME:CDT
DTSTART:20220313T080000
END:DAYLIGHT
BEGIN:STANDARD
TZOFFSETFROM:-0500
TZOFFSETTO:-0600
TZNAME:CST
DTSTART:20221106T070000
END:STANDARD
END:VTIMEZONE
BEGIN:VEVENT
DTSTART;VALUE=DATE:20210519
DTEND;VALUE=DATE:20210520
DTSTAMP:20260424T110005
CREATED:20210419T220917Z
LAST-MODIFIED:20210528T010037Z
UID:29823-1621382400-1621468799@northfieldartsguild.org
SUMMARY:NHS Honors Art Show Opens
DESCRIPTION:UNCOVER THE BEAUTY NHS HONORS ART SHOW\n\nMAY 19-JUNE 5\, 2021\n\n\n\n\nThe Northfield Arts Guild is proud to host this annual spring exhibition of artworks by students in Katherine Norrie’s Northfield High School Honors Art class. \n\nExperience the stellar artwork in a variety of media by: Caroline Ash\, Gina Bradford\, Rachael Braun\, Libby Brust\, Kelsie Closson\, Ayden Cole\, Jason Gonzalez\, Ella Homan\, Kylie Hoover\, Emma Johnson\, Ashley Marcial Rodriguez\, Ally Mikulecky\, Laura Rezac\, Annie Sanders & Marta Sorenson. \n  \n\nJoin us for a live\, virtual Artist Reception on Thursday\, May 27 from 6:30-7:30 pm to celebrate artists in our Uncover the Beauty exhibition. Attendees will be encouraged to ask questions of the artists\, and see a slideshow of artwork\, while hearing from participating artists. \nRegister in advance for this webinar \nhttps://us02web.zoom.us/webinar/register/WN_3guEBlwDTYOdhE2QV3-AiQ \nAfter registering\, you will receive a confirmation email containing information about joining the webinar. Questions? Email heather@northfieldartsguild.org \n\n\n\n\n\n\n2020-21 Gallery Season Sponsor:
URL:https://northfieldartsguild.org/event/nhs-honors-art-show-opens-2/
LOCATION:Northfield Arts Guild\, 304 Division St.\, Northfield\, MN\, 55057\, United States
CATEGORIES:Special Events,Visual Arts
ATTACH;FMTTYPE=image/jpeg:https://northfieldartsguild.org/wp-content/uploads/Uncover-the-Beauty-Honors-Art-Show.jpg
END:VEVENT
BEGIN:VEVENT
DTSTART;TZID=America/Chicago:20210521T203000
DTEND;TZID=America/Chicago:20210521T210000
DTSTAMP:20260424T110005
CREATED:20210416T212909Z
LAST-MODIFIED:20210416T213003Z
UID:29808-1621629000-1621630800@northfieldartsguild.org
SUMMARY:Live from the Guild Theater featuring Andy Flory
DESCRIPTION:MAY 21\, 8:30 PM\nANDY FLORY\n\nAndrew Flory is a musicologist and musician from Northfield. He has played locally as a member of the Counterfactuals and leads the elusive trio Tower Soudan. When armed with a simple acoustic guitar or piano\, Flory offers a quirky but direct take on indie\, Americana and folk that lands somewhere near the intersection of Elliot Smith and John Denver. As an academic\, he is an expert on the music of Motown and the author of the top-selling history of rock textbook in the U.S.\, and is currently writing a book about Marvin Gaye. He is well-versed in Gaye’s catalog\, and has produced a number of historical reissues of material by the Motown legend. His day job is a professor post at Carleton College. Flory produces most of his own records and has also worked behind the desk for local groups like Sam Ryden and Matt Arthur and the Bratlanders. \nLive from the Guild Theater is made possible by the voters of Minnesota through a grant from the Southeastern Minnesota Arts Council thanks to a legislative appropriation from the arts & cultural heritage fund. \n\nWATCH THE LIVE CONCERT\n\nDuring these challenging times\, your support has tremendous impact!  In celebration of this concert\, please consider a donation to the Northfield Arts Guild.
URL:https://northfieldartsguild.org/event/live-from-the-guild-theater-featuring-andy-flory/
LOCATION:MN
CATEGORIES:Music,Special Events
ATTACH;FMTTYPE=image/png:https://northfieldartsguild.org/wp-content/uploads/Andy-Flory-FB.png
END:VEVENT
BEGIN:VEVENT
DTSTART;TZID=America/Chicago:20210525T160000
DTEND;TZID=America/Chicago:20210525T170000
DTSTAMP:20260424T110005
CREATED:20210324T225839Z
LAST-MODIFIED:20210525T223347Z
UID:29495-1621958400-1621962000@northfieldartsguild.org
SUMMARY:Virtual Spring Dance Concert 2021
DESCRIPTION:Join us for our annual Spring Dance Concert – virtually! You’ll enjoy videos featuring pieces from our Ballet and Folklorico classes – help us celebrate the hard work our students have put into dancing this year!  The concert will premiere on the Guild’s YouTube channel at 4 pm on Tuesday\, May 25th.
URL:https://northfieldartsguild.org/event/virtual-spring-dance-concert-2021/
LOCATION:MN
CATEGORIES:Dance,Special Events
ATTACH;FMTTYPE=image/jpeg:https://northfieldartsguild.org/wp-content/uploads/Guild-2019_Dance-172-scaled-e1616626819342.jpg
END:VEVENT
BEGIN:VEVENT
DTSTART;TZID=America/Chicago:20210527T183000
DTEND;TZID=America/Chicago:20210527T193000
DTSTAMP:20260424T110005
CREATED:20210510T162341Z
LAST-MODIFIED:20210528T005441Z
UID:30150-1622140200-1622143800@northfieldartsguild.org
SUMMARY:Honors Art Virtual Artist Reception
DESCRIPTION:We held a virtual Artist Reception on Thursday\, May 27 from 6:30-7:30 pm to celebrate artists in our Uncover the Beauty exhibition. Attendees were encouraged to ask questions of the artists\, and see a slideshow of artwork\, while hearing from participating artists. \nWATCH A RECORDING OF THE VIRTUAL RECEPTION\nUNCOVER THE BEAUTY NHS HONORS ART SHOW\n\nMAY 19-JUNE 5\, 2021\n\n\n\nThe Northfield Arts Guild is proud to host this annual spring exhibition of artworks by students in Katherine Norrie’s Northfield High School Honors Art class. \n\nExperience the stellar artwork in a variety of media by: Caroline Ash\, Gina Bradford\, Rachael Braun\, Libby Brust\, Kelsie Closson\, Ayden Cole\, Jason Gonzalez\, Ella Homan\, Kylie Hoover\, Emma Johnson\, Ashley Marcial Rodriguez\, Ally Mikulecky\, Laura Rezac\, Annie Sanders & Marta Sorenson. \n  \n\n\n\n\n\n\n\n2020-21 Gallery Season Sponsor:
URL:https://northfieldartsguild.org/event/honors-art-virtual-artist-reception/
LOCATION:MN
CATEGORIES:Special Events,Visual Arts
ATTACH;FMTTYPE=image/jpeg:https://northfieldartsguild.org/wp-content/uploads/Uncover-the-Beauty-Honors-Art-Show.jpg
END:VEVENT
END:VCALENDAR