BEGIN:VCALENDAR
VERSION:2.0
PRODID:-//Northfield Arts Guild - ECPv6.15.19//NONSGML v1.0//EN
CALSCALE:GREGORIAN
METHOD:PUBLISH
X-ORIGINAL-URL:https://northfieldartsguild.org
X-WR-CALDESC:Events for Northfield Arts Guild
REFRESH-INTERVAL;VALUE=DURATION:PT1H
X-Robots-Tag:noindex
X-PUBLISHED-TTL:PT1H
BEGIN:VTIMEZONE
TZID:America/Chicago
BEGIN:DAYLIGHT
TZOFFSETFROM:-0600
TZOFFSETTO:-0500
TZNAME:CDT
DTSTART:20190310T080000
END:DAYLIGHT
BEGIN:STANDARD
TZOFFSETFROM:-0500
TZOFFSETTO:-0600
TZNAME:CST
DTSTART:20191103T070000
END:STANDARD
BEGIN:DAYLIGHT
TZOFFSETFROM:-0600
TZOFFSETTO:-0500
TZNAME:CDT
DTSTART:20200308T080000
END:DAYLIGHT
BEGIN:STANDARD
TZOFFSETFROM:-0500
TZOFFSETTO:-0600
TZNAME:CST
DTSTART:20201101T070000
END:STANDARD
BEGIN:DAYLIGHT
TZOFFSETFROM:-0600
TZOFFSETTO:-0500
TZNAME:CDT
DTSTART:20210314T080000
END:DAYLIGHT
BEGIN:STANDARD
TZOFFSETFROM:-0500
TZOFFSETTO:-0600
TZNAME:CST
DTSTART:20211107T070000
END:STANDARD
END:VTIMEZONE
BEGIN:VEVENT
DTSTART;TZID=America/Chicago:20201210T190000
DTEND;TZID=America/Chicago:20201210T200000
DTSTAMP:20260425T023258
CREATED:20201123T161714Z
LAST-MODIFIED:20201210T142323Z
UID:28321-1607626800-1607630400@northfieldartsguild.org
SUMMARY:Virtual Guild Winter Walk
DESCRIPTION:GET IN THE HOLIDAY SPIRIT WITH THE GUILD! PLEASE JOIN US ON THURSDAY\, DEC 10 FOR VIRTUAL GUILD WINTER WALK FEATURING A FUN\, FREE\, FAMILY-FRIENDLY LINE UP OF ONLINE HOLIDAY ARTS PROGRAMMING.\n\n\n\nAt 7:00 pm watch the Guild’s Dance Theater Company’s premiere of Dancing Through the Storm: a Winter Dance Performance on the Guild’s YouTube channel.\n\n\n\n\nThis original dance performance\, directed and choreographed by Shari Setchell\, features 7 students of all ages dancing to a traditional Ukrainian piece\, Carol of the Bells\, performed by the Avalon Pops Orchestra.\n\n\n\nAt 7:15 pm Create a Jelly-Jar Snow Globe/Globos de nieve\n\n\n  \nFollow along virtually with Jennie in English and Spanish as she walks you through this fun project! Participants will need these items commonly found at home: \n\n\n\n\n\nA glass (or plastic for young children) jar with a tight fitting lid. Could be a jelly\, peanut butter\, pickle jar\, etc. Get creative!\nGlitter\nTrinket for inside (figurine\, toy\, etc.)\nAdhesives: clear school glue or clear baby oil (necessary for the “snow” to work)\, and a hot glue gun or strong crafting glue/cement\nAny ribbon or decorations for the outside of the jar (optional)\n\n\nAnytime! Watch SOLOS – the monologue writing and performance festival that premiered on Nov 7! Watch on YouTube.\n\n\n\n\nSOLOS premiered this fall\, featuring 12 area actors performing 12 monologues written by 10 local writers. The writers and actors were selected from an open submission process. In this time of physical distancing\, SOLOS is a performance festival for anyone to participate from wherever they currently are.
URL:https://northfieldartsguild.org/event/virtual-guild-winter-walk/
LOCATION:MN
CATEGORIES:Dance,Special Events,Visual Arts
ATTACH;FMTTYPE=image/jpeg:https://northfieldartsguild.org/wp-content/uploads/Virtual-Winter-Walk-at-the-Guild-snowflakes.jpg
END:VEVENT
BEGIN:VEVENT
DTSTART;TZID=America/Chicago:20201219T193000
DTEND;TZID=America/Chicago:20201219T200000
DTSTAMP:20260425T023258
CREATED:20201208T194126Z
LAST-MODIFIED:20201222T192115Z
UID:28398-1608406200-1608408000@northfieldartsguild.org
SUMMARY:411 Encore Concert featuring Sam Ryden
DESCRIPTION:The Northfield Arts Guild\, in collaboration with Ray Coudret\, is pleased to present 411 Encore Concert featuring Sam Ryden\, a free virtual concert\, live from the Guild stage\, showcasing Northfield-based singer/songwriter\, Sam Ryden on Saturday\, December 19 at 7:30pm. \nRyden will perform live from the Guild Theater with his performance streamed on the Guild’s Facebook page. The concert will be approximately 30 minutes in length and feature new and recent songs by Ryden. Join us at 7:30 pm to enjoy live music featuring this acclaimed performer.  \nStay tuned for upcoming dates and details for a planned series of musical performances live from the Guild Theater spanning the winter months. \nWATCH THE CONCERT\nDuring these challenging times\, your support has tremendous impact!  In celebration of tonight’s concert\, please consider a donation to the Northfield Arts Guild.
URL:https://northfieldartsguild.org/event/411-encore-concert-featuring-sam-ryden/
LOCATION:MN
CATEGORIES:Music,Special Events,Theater
ATTACH;FMTTYPE=image/jpeg:https://northfieldartsguild.org/wp-content/uploads/Sam-Ryden-Photo-cropped.jpg
END:VEVENT
END:VCALENDAR