BEGIN:VCALENDAR
VERSION:2.0
PRODID:-//Northfield Arts Guild - ECPv6.15.19//NONSGML v1.0//EN
CALSCALE:GREGORIAN
METHOD:PUBLISH
X-ORIGINAL-URL:https://northfieldartsguild.org
X-WR-CALDESC:Events for Northfield Arts Guild
REFRESH-INTERVAL;VALUE=DURATION:PT1H
X-Robots-Tag:noindex
X-PUBLISHED-TTL:PT1H
BEGIN:VTIMEZONE
TZID:America/Chicago
BEGIN:DAYLIGHT
TZOFFSETFROM:-0600
TZOFFSETTO:-0500
TZNAME:CDT
DTSTART:20140309T080000
END:DAYLIGHT
BEGIN:STANDARD
TZOFFSETFROM:-0500
TZOFFSETTO:-0600
TZNAME:CST
DTSTART:20141102T070000
END:STANDARD
BEGIN:DAYLIGHT
TZOFFSETFROM:-0600
TZOFFSETTO:-0500
TZNAME:CDT
DTSTART:20150308T080000
END:DAYLIGHT
BEGIN:STANDARD
TZOFFSETFROM:-0500
TZOFFSETTO:-0600
TZNAME:CST
DTSTART:20151101T070000
END:STANDARD
BEGIN:DAYLIGHT
TZOFFSETFROM:-0600
TZOFFSETTO:-0500
TZNAME:CDT
DTSTART:20160313T080000
END:DAYLIGHT
BEGIN:STANDARD
TZOFFSETFROM:-0500
TZOFFSETTO:-0600
TZNAME:CST
DTSTART:20161106T070000
END:STANDARD
END:VTIMEZONE
BEGIN:VEVENT
DTSTART;TZID=America/Chicago:20150509T190000
DTEND;TZID=America/Chicago:20150509T210000
DTSTAMP:20260421T054814
CREATED:20150412T043615Z
LAST-MODIFIED:20150412T043615Z
UID:4757-1431198000-1431205200@northfieldartsguild.org
SUMMARY:CVRO 35th Anniversary Gala Concert
DESCRIPTION:With  Dan Kallman’s Fidelitas a tribute to Northfield’s hero – Joseph Lee Heywood\, and Chris Forbes’ Bassoon Concerto\, commissioned by the CVRO and featuring Northfield bassoonist Thea Groth. \n 
URL:https://northfieldartsguild.org/event/cvro-35th-anniversary-gala-concert/
LOCATION:St. John’s Lutheran Church\, 500 Third Street West\, Northfield\, MN\, 55057\, United States
CATEGORIES:Music
ATTACH;FMTTYPE=:
GEO:44.457889;-93.166925
X-APPLE-STRUCTURED-LOCATION;VALUE=URI;X-ADDRESS=St. John’s Lutheran Church 500 Third Street West Northfield MN 55057 United States;X-APPLE-RADIUS=500;X-TITLE=500 Third Street West:geo:-93.166925,44.457889
END:VEVENT
BEGIN:VEVENT
DTSTART;TZID=America/Chicago:20150509T193000
DTEND;TZID=America/Chicago:20150509T213000
DTSTAMP:20260421T054814
CREATED:20150412T043259Z
LAST-MODIFIED:20150412T043259Z
UID:4756-1431199800-1431207000@northfieldartsguild.org
SUMMARY:411 Concert: Tom Brosseau
DESCRIPTION:  \nTom Brosseau\nwith Daniel Groll \n It’s “in the shadows where the sly Brosseau does his best work\, transforming earthbound images into intimations of wonder\, giving unremarkable everyday memories a mysterious\, almost haunting poignancy.” ~NPR News \nTom Brosseau is a North Dakota-born\, LA-based songwriter and singer who learned acoustic guitar from his grandmother. He has recorded ten albums since 2002 and tours and performs in the US\, UK\, Europe\, Japan and Taiwan. \nTickets: $20 \nBuy Brosseau Tickets \n  \nLocally sponsored by  \n2014-2015 Season Sponsor:
URL:https://northfieldartsguild.org/event/411-concert-tom-brosseau/
LOCATION:Arts Guild Theater\, 411 West Third Street\, Northfield\, MN\, 55057\, United States
CATEGORIES:Music
GEO:44.457013;-93.165829
X-APPLE-STRUCTURED-LOCATION;VALUE=URI;X-ADDRESS=Arts Guild Theater 411 West Third Street Northfield MN 55057 United States;X-APPLE-RADIUS=500;X-TITLE=411 West Third Street:geo:-93.165829,44.457013
END:VEVENT
BEGIN:VEVENT
DTSTART;TZID=America/Chicago:20150510T150000
DTEND;TZID=America/Chicago:20150510T170000
DTSTAMP:20260421T054814
CREATED:20150412T043954Z
LAST-MODIFIED:20150412T043954Z
UID:4759-1431270000-1431277200@northfieldartsguild.org
SUMMARY:CVRO 35th Anniversary Concert
DESCRIPTION:With  Dan Kallman’s Fidelitas a tribute to Northfield’s hero – Joseph Lee Heywood\, and Chris Forbes’ Bassoon Concerto\, commissioned by the CVRO and featuring Northfield bassoonist Thea Groth.
URL:https://northfieldartsguild.org/event/cvro-35th-anniversary-concert/
LOCATION:The Cathedral of our Merciful Savior\, 515 NW 2nd Avenue\, Faribault\, MN\, 55021\, United States
CATEGORIES:Music
ATTACH;FMTTYPE=:
GEO:44.296646;-93.270763
X-APPLE-STRUCTURED-LOCATION;VALUE=URI;X-ADDRESS=The Cathedral of our Merciful Savior 515 NW 2nd Avenue Faribault MN 55021 United States;X-APPLE-RADIUS=500;X-TITLE=515 NW 2nd Avenue:geo:-93.270763,44.296646
END:VEVENT
BEGIN:VEVENT
DTSTART;TZID=America/Chicago:20150521T193000
DTEND;TZID=America/Chicago:20150521T210000
DTSTAMP:20260421T054814
CREATED:20150412T050807Z
LAST-MODIFIED:20150412T050807Z
UID:4770-1432236600-1432242000@northfieldartsguild.org
SUMMARY:Gypsy Jazz Jam Series Grand Finale Concert
DESCRIPTION:Featuring Stephane Wrembel and his Band\n\nJoin us for a very special evening\, celebrating a culmination of the third annual Northfield Gypsy Jazz Jam Series\, proudly supported by the Northfield Arts Guild. This grand finale concert will feature French-born\, Brooklyn-based Stephane Wrembel who is known internationally as one of the most daring and virtuosic guitarists of our time.  Rolling Stone Magazine has called him “a revelation”. Woody Allen recruited him to score the theme for the smash film “Midnight in Paris”\, and he performed the irresistibly catchy original song\, “Bistro Fada”\, live during the 2012 Academy Awards. He has headlined at Lincoln Center\, played major festivals\, recorded with mandolin legend David Grisman\, toured with master violinist Mark O’Connor and shared stages with everyone from Elvis Costello to Patti Smith to The Roots. The Gitane guitar company has even named a model after him. To say that Stephane Wrembel— who learned his craft among the Gypsies at campsites in the French countryside— has already had a remarkable career would be an under-statement. This virtuoso guitarist has truly just begun to make his mark as one of the most original guitar voices in contemporary music. \n\nIn addition to showcasing Wrembel’s mastery of the gypsy jazz tradition\, the May 21st concert will highlight his latest original release\, Dreamers of Dreams. In this new album\, one can hear the echoes of his influences from Django Reinhardt to Pink Floyd. Wrembel harmoniously blends all his mastered techniques into one powerful\, impressionist masterpiece that is Dreamers of Dreams. \nFor further information on the Northfield Gypsy Jazz Jam Series\, visit www.marthalarson.com. \nTickets: $15 in advance\n$20 at the door
URL:https://northfieldartsguild.org/event/gypsy-jazz-jam-series-grand-finale-concert/
LOCATION:Arts Guild Theater\, 411 West Third Street\, Northfield\, MN\, 55057\, United States
CATEGORIES:Music
ATTACH;FMTTYPE=:
GEO:44.457013;-93.165829
X-APPLE-STRUCTURED-LOCATION;VALUE=URI;X-ADDRESS=Arts Guild Theater 411 West Third Street Northfield MN 55057 United States;X-APPLE-RADIUS=500;X-TITLE=411 West Third Street:geo:-93.165829,44.457013
END:VEVENT
END:VCALENDAR