BEGIN:VCALENDAR
VERSION:2.0
PRODID:-//Northfield Arts Guild - ECPv6.15.19//NONSGML v1.0//EN
CALSCALE:GREGORIAN
METHOD:PUBLISH
X-WR-CALNAME:Northfield Arts Guild
X-ORIGINAL-URL:https://northfieldartsguild.org
X-WR-CALDESC:Events for Northfield Arts Guild
REFRESH-INTERVAL;VALUE=DURATION:PT1H
X-Robots-Tag:noindex
X-PUBLISHED-TTL:PT1H
BEGIN:VTIMEZONE
TZID:America/Chicago
BEGIN:DAYLIGHT
TZOFFSETFROM:-0600
TZOFFSETTO:-0500
TZNAME:CDT
DTSTART:20180311T080000
END:DAYLIGHT
BEGIN:STANDARD
TZOFFSETFROM:-0500
TZOFFSETTO:-0600
TZNAME:CST
DTSTART:20181104T070000
END:STANDARD
BEGIN:DAYLIGHT
TZOFFSETFROM:-0600
TZOFFSETTO:-0500
TZNAME:CDT
DTSTART:20190310T080000
END:DAYLIGHT
BEGIN:STANDARD
TZOFFSETFROM:-0500
TZOFFSETTO:-0600
TZNAME:CST
DTSTART:20191103T070000
END:STANDARD
BEGIN:DAYLIGHT
TZOFFSETFROM:-0600
TZOFFSETTO:-0500
TZNAME:CDT
DTSTART:20200308T080000
END:DAYLIGHT
BEGIN:STANDARD
TZOFFSETFROM:-0500
TZOFFSETTO:-0600
TZNAME:CST
DTSTART:20201101T070000
END:STANDARD
BEGIN:DAYLIGHT
TZOFFSETFROM:-0600
TZOFFSETTO:-0500
TZNAME:CDT
DTSTART:20210314T080000
END:DAYLIGHT
BEGIN:STANDARD
TZOFFSETFROM:-0500
TZOFFSETTO:-0600
TZNAME:CST
DTSTART:20211107T070000
END:STANDARD
END:VTIMEZONE
BEGIN:VEVENT
DTSTART;TZID=America/Chicago:20190226T080000
DTEND;TZID=America/Chicago:20190226T170000
DTSTAMP:20260425T111939
CREATED:20190226T211511Z
LAST-MODIFIED:20190226T211511Z
UID:19244-1551168000-1551200400@northfieldartsguild.org
SUMMARY:Calling All Creatives Workshops
DESCRIPTION:Calling All Northfield Creatives!\nSeeking local talent to develop creative ideas:\n*Represent ALL cultures\n*Showcase our riverfront\n* Build community\nBring your vision and voice to Downtown Northfield – all cultures\, ages\, and styles of creativity are welcome!\n~10-15 Artists will be chosen & project support funds to use for their project. By attending the meeting\, this is the first step to receive funding to support your project this upcoming summer and fall. \nLEARN MORE at a FREE WORKSHOP: (If you are interested in receiving project support ~ you MUST attend one of the FREE informational meetings) \nARTISTS WORKSHOPS: \nMarch 8\n5:30 – 8:30 p.m.\nNorthfield Arts Guild\nlight snacks & drinks provided\n(bilingual Spanish interpreter available) \n-OR- \nMarch 9\n9 a.m. – noon\nNorthfield Public Library Minnesota\nlight snacks & beverages provided\n(bilingual Spanish interpreter available)\nThis activity is part of Artists on Main Street\, a partnership between NDDC\, the Preservation Alliance of Minnesota and Springboard for the Arts\, with support from the Bush Foundation. \nLearn MORE:\nNorthfield Artists on Main Street\nConnection/Conexión\nCalling all Creatives to Build Connections/Conexiónes in Downtown Northfield \nArtists\, makers\, and creatives of all types are invited to participate in one of two free upcoming Creative Placemaking workshops as part of the Artists on Main Street Initiative here in Northfield. \nAttending the workshops is the first step for creatives to apply for and potentially receive funding to support projects this upcoming summer and fall. \nThe workshop will be facilitated by Michele Anderson\, Northfield native and current Rural Program Director for Springboard for the Arts\, and Sarina Otaibi\, Rural Program Manager for the Preservation Alliance of Minnesota. Attendees will learn more about creative placemaking in general\, the Artists on Main Street Initiative\, examples of projects funded in other MN communities\, and the project parameters specific to Northfield. \nThe name of Northfield’s initiative is “Connection/Conexión.” Project funding will be available to any artist\, creative\, or maker living or working within the Northfield Public School district boundary. Projects will use art\, creativity\, events or performances to help to draw people from across Highway 3 to downtown and create connections between people and places within our downtown. \nProjects should occur within the boundaries of 2nd street on the north\, 5th street on the south\, the railroad tracks on the west side of Highway 3 and the East Riverwalk/backs of Division St. buildings on the east. All cultures\, ages\, and styles of creativity are welcome! A full call for proposals will be distributed at the workshops. The project’s fund of $15\,000 will support 10-15 projects that will be selected by a Public Art Review Committee\, a process facilitated by the City of Northfield’s Arts and Culture Commission. Projects must be implemented between May-October 2019. \nFunding applicants must have attended a creative placemaking workshop in order to be considered for funding. Light snacks and beverages will be provided\, and a bilingual Spanish interpreter will be available as well. \nThe Creative Placemaking workshops will take place on Friday\, March 8 from 5:30-8:30 pm at the Northfield Arts Guild\, and Saturday\, March 9 from 9 am-12 pm at the Northfield Public Library. Registration for the workshops is free\, but attendees should RSVP at http://downtownnorthfield.org if they plan to attend. \nAbout the Artists on Main Street Initiative and Partners \nThe Northfield Downtown Development Corporation was awarded a $30\,000 grant through the Artists on Main Street community development initiative in Fall 2018. The\nprogram is a partnership between the Preservation Alliance of Minnesota (PAM) and Springboard for the Arts\, with support from the Bush Foundation. The program explores the intersection of arts and culture\, downtown revitalization\, and historic preservation in eleven Minnesota Main Street communities over a four year period. \nMinnesota Main Street is an economic development program of PAM that uses a historic preservation based strategy to revitalize downtown districts in Greater Minnesota communities. The program works with communities long-term and provides training and resources\, including a Main Street Project Fund; to help community members revitalize their downtown. \nSpringboard for the Arts is a national leader in creative community development. Their approach is rooted in the principles of community organizing and focuses on a “lots of little” strategy that surfaces unrecognized leaders in communities\, builds public narratives from a multiplicity of perspectives and voices; and creates low-risk opportunities for collaboration. This equity-based model centers on the lives and experiences of the people in and of the place; values the relationships\, partnerships\, and creative capacity that artists and communities build together; and aims to build power and agency for individuals\, neighborhoods and communities. \nAbout the Northfield Downtown Development Corporation \nThe Northfield Downtown Development Corporation (NDDC) is a nonprofit organization founded in 2000 to support\, strengthen\, and grow Northfield’s unique downtown district. It is made up of business owners\, buildings owners\, and engaged residents who value the role downtown plays in Northfield’s vibrancy. \nNorthfield\, Minnesota\, is a picturesque river town with a walkable downtown district along the scenic Cannon River. Northfield is home to St Olaf and Carleton Colleges\, and so is one of the upper Midwest’s best college towns. It is home to historic buildings\, a swirl of art and cultural activities\, state-of-the-art businesses\, a rich offering of hotels and restaurants\, and a sophisticated retail environment. \nThe program will help the NDDC to sustain a vibrant downtown by providing art and creative placemaking experiences that draw people to shop\, dine and connect in Downtown Northfield; enhancing the downtown’s aesthetics through the creativity of our local artists; and utilizing the arts as a springboard for improving diversity and inclusiveness in Downtown Northfield across all cultures. As the Designated MN Main Street organization\, the NDDC will coordinate the Artists on Main Street program in collaboration with the City of Northfield’s Arts & Culture Commission and the Northfield Arts Guild.
URL:https://northfieldartsguild.org/event/calling-all-creatives-workshops/
CATEGORIES:Dance,Education,Fair/Festival,Literary Arts,Music,Poetry,Special Events,Theater,Visual Arts
ATTACH;FMTTYPE=:
END:VEVENT
BEGIN:VEVENT
DTSTART;TZID=America/Chicago:20190710T113000
DTEND;TZID=America/Chicago:20190710T130000
DTSTAMP:20260425T111939
CREATED:20190425T165150Z
LAST-MODIFIED:20190425T165150Z
UID:19810-1562758200-1562763600@northfieldartsguild.org
SUMMARY:Free Lunch & Learn: Create a Water Journal
DESCRIPTION:Free Lunch & Learn Workshop: Create a Water Journal\n \nMain Gallery\, Northfield Arts Guild\, 304 Division Street \nWednesday\, July 10   11:30 am – 1 pm \n  \nEat\, Relax & Create! \nThe community is invited to this free workshop! Artist Jeff Rathermel will guide attendees of this free Make-n-Take workshop through creating a journal using the double pamphlet stitch technique.  Participants will leave with a finished journal containing easy ways for everyone to protect our water resources. \nOpen to all ages\, youth under 14\, please bring an adult. All supplies for the journal will be provided\, and guests are welcome to bring a bag lunch. Space is limited; please reserve your seat by emailing heather@northfieldartsguild.org or by calling 507-645-8877 \n  \n  \nThis activity is made possible by the voters of Minnesota through a grant from the Southeastern Minnesota Arts Council thanks to a legislative appropriation from the arts & cultural heritage fund. \n2018-19 Gallery Season sponsored by: \n\n\n\nWe Are Water: Watershed supported by:\nProfessional Drive Dental Group\n  \nWe Are Water: Watershed collaborators: \n      \n 
URL:https://northfieldartsguild.org/event/free-lunch-learn-create-a-water-journal/
LOCATION:Northfield Arts Guild\, 304 Division St.\, Northfield\, MN\, 55057\, United States
CATEGORIES:Literary Arts,Special Events,Visual Arts
ATTACH;FMTTYPE=:
END:VEVENT
BEGIN:VEVENT
DTSTART;TZID=America/Chicago:20190804T163000
DTEND;TZID=America/Chicago:20190804T173000
DTSTAMP:20260425T111939
CREATED:20190801T235520Z
LAST-MODIFIED:20190801T235520Z
UID:20731-1564936200-1564939800@northfieldartsguild.org
SUMMARY:Post-show Discussion with Kari Halker-Saathoff
DESCRIPTION:Join us for a post-show discussion with Kari Halker-Saathoff on Sunday\, August 4 at the Guild Theater.\n     \nSpecial exhibition at the Guild Theater\nOdysseus and Penelope: The Long Journey showcases the work of Kari Halker-Saathoff\, who has always been fascinated with stories of adventure.  In creating her interpretation\, Kari fashioned images on ceramic vessels that represent Penelope’s remarkable story\, while her illustrations tell the story of Odysseus. For many\, even those who have not read Homer’s The Odyssey\, Odysseus’ adventures are part of our cultural knowledge. Given this familiarity\, Halker-Saathoff depicts his journey within the mythological time period while reimagining the timeless and transcendent story – a story that has stayed with her throughout the years. \nWhile many of the illustration titles are inspired by the text of The Odyssey\, in contrast\, the titles accompanying each of Penelope’s vessels are inspired by the Women’s March of 2017\, as well as current news stories.  Halker-Saathoff has purposely chosen to align Penelope’s heroic journey within the present context of female struggle and empowerment. Her ambition for this show is to illuminate the many parallels between the present and 650 B.C.E.
URL:https://northfieldartsguild.org/event/post-show-discussion-with-kari-halker-saathoff/
LOCATION:Northfield Arts Guild Theater\, 411 Third Street W\, Northfield\, MN\, 55057\, United States
CATEGORIES:Literary Arts,Special Events,Theater,Visual Arts
ATTACH;FMTTYPE=:
GEO:44.4570213;-93.1658473
X-APPLE-STRUCTURED-LOCATION;VALUE=URI;X-ADDRESS=Northfield Arts Guild Theater 411 Third Street W Northfield MN 55057 United States;X-APPLE-RADIUS=500;X-TITLE=411 Third Street W:geo:-93.1658473,44.4570213
END:VEVENT
BEGIN:VEVENT
DTSTART;TZID=America/Chicago:20190905T193000
DTEND;TZID=America/Chicago:20190905T213000
DTSTAMP:20260425T111939
CREATED:20190125T230230Z
LAST-MODIFIED:20190125T230230Z
UID:19009-1567711800-1567719000@northfieldartsguild.org
SUMMARY:The Great Northfield Bank Robbery: A Love Story
DESCRIPTION:September 5\, 6\, and 7\, 2019\na World Premier\nduring Northfield’s Defeat of Jesse James Days\n\n  \nPerformances:\nThursday\, September 5\, 2019 at 7:30pm\nFriday\, September 6\, 2019 at 7:30pm\nSaturday\, September 7\, 2019 at 7:30pm\n \nIn 1900\, Jim and Cole Younger\, brothers from Missouri\, had spent nearly a quarter century in Stillwater penitentiary for the notorious raid on the First National Bank of Northfield. As a movement for their pardon grew\, a young reporter for the St. Paul Pioneer Press took an interest in the Youngers’ cause.  Alix J. Muller\, already distinguished in her journalism career at the tender age of 22\, followed her nose for news and went out to Stillwater to interview Jim Younger.  Alix came back with more than just a good story. She and Jim Younger began a mutual appreciation. After the famous bank robbers and killers were released\, the relationship between Alix and Jim turned into its own story — one that shocked the upper crust of St. Paul. The star-crossed romance between an ambitious young woman of high society and an ex-con more than twice her age is a story that seems like fiction — but it was once actual news. \nHow the play came about:\nBill McAuliffe was digging through files at the Minnesota HIstory Center\, researching some now-forgotten news story\, when he came across accounts of the tragic death of bank robber and killer Jim Younger. Younger had been in love with a St. Paul journalist less than half his age\, but of course it couldn’t work. “That’s a play\,” McAuliffe thought.  “Maybe I’ll write it when I retire.” Twenty-five years later\, on his way out the Star Tribune door on his final day\, McAuliffe stopped by the desk of colleague Graydon Royce\, the paper’s long-time drama and arts critic. Was there a play here\, McAuliffe wondered? As the saying goes\, you couldn’t make this stuff up. There was definitely a play there. And here it is.\n\nThe Playwrights:\nIn his 33 years as a reporter at the Minneapolis Star Tribune\, Bill McAuliffe covered politics\, crime\, weather and other obsessions of the day. He is also an award-winning travel writer and has written a wide range of children’s non fiction books. He is a bicyclist\, bread-baker\, undiscovered guitarist and grandfather of four. He lives in Minneapolis. \nGraydon Royce is a retired theater critic and fine arts writer with the Star Tribune. He won the 2016 Ivey Award for Lifetime Achievement from the Twin Cities theater community. He has been a fellow at both the O’Neill Critic’s Institute in New London\, Conn.\, and the NEA Classical Music Fellowship at Columbia University. He is also a playwright and actor. He most recently performed in “Holiday Inn” at Chanhassen Dinner Theatre. Royce currently serves as director of artistic ministry at Diamond Lake Lutheran Church in south Minneapolis. He has four children and eight grandchildren. \nDirected by Rachel Haider\n2018 Best of Southern MN Scene Winner for Best Director\nThroughout most of her life\, Rachel has studied\, taught\, and worked in theater arts and in arts promotion and management. Her extensive resume includes work with professional\, community and educational theaters.  She has taught in private and public schools and with numerous arts organizations. Her most recent directing credits with the Guild include Mansfield Park\, Les Misérables (which won Best Production in 2018) and The King’s New Clothes. Other recent directing credits include The Miracle Worker\, A Christmas Carol\, The Best Christmas Pageant Ever and A Charlie Brown Christmas. Rachel is the Performing Arts Manager at the Guild and directs/teaches/manages Purple Door Youth Theater.  Rachel brings a broad range of arts expertise to her productions\, creating quality and memorable theatrical experiences. \nFeaturing:\nJim Younger: Steve Lawler\nAlix Muller: Alison Haider\nCole Younger: Jonathan Larson\nLenora/Prostitute/Editor: Innana Antley\nGovernor Samuel Van Sant: Brendon Etter\nEdward Schurmeier/Male Guard at Stillwater Prison: Paul Seguin\nRutter/Reporter 1/Schoch: Rolf Kragseth\nSchmitz/Reporter 2: Samuel Temple\nJohnson/Con on a Crutch: Will McIntyre\nWarren Bronaugh/Reporter 3: Andy Franklin\nAdolph Grethen: Bryan Reed\nAid to Van Sant/Female Guard at Stillwater Prison/Panhandler/Ex-con/Landlady/Reporter in Boise: Esme’ Elzi\nBarker/Heckler: Joran Peterson \n\n\n\n\n\n\n\n\n\n\n\n\nMany thanks to our Production Co-sponsor:
URL:https://northfieldartsguild.org/event/the-great-northfield-bank-robbery-a-love-story/2019-09-05/
LOCATION:Northfield Arts Guild Theater\, 411 West Third Street\, Northfield\, MN\, 55057
CATEGORIES:Literary Arts,Theater
ATTACH;FMTTYPE=:
GEO:44.457013;-93.165829
X-APPLE-STRUCTURED-LOCATION;VALUE=URI;X-ADDRESS=Northfield Arts Guild Theater 411 West Third Street Northfield MN 55057;X-APPLE-RADIUS=500;X-TITLE=411 West Third Street:geo:-93.165829,44.457013
END:VEVENT
BEGIN:VEVENT
DTSTART;TZID=America/Chicago:20191029T180000
DTEND;TZID=America/Chicago:20191029T200000
DTSTAMP:20260425T111939
CREATED:20190914T125810Z
LAST-MODIFIED:20190914T125810Z
UID:23294-1572372000-1572379200@northfieldartsguild.org
SUMMARY:FREE Workshop: The Anatomy of an Artist Statement
DESCRIPTION:FREE WORKSHOP: The Anatomy of an Artist Statement \nCorks & Pints Wine Bar | Tap House\, 22 Fourth St NE\, Faribault \nTuesday\, October 29\, 6-8 pm (doors open at 5:30 pm)\nHave you ever struggled with drafting an artist statement? The Guild and Paradise Center for the Arts are here to help!  This collaborative offering is OPEN TO ARTISTS IN ALL DISCIPLINES\, is sponsored by Southeastern Minnesota Arts Council (SEMAC)\, and features panelists with experience writing successful artist statements will share an overview of tips when writing an artist statement. \nPanelists:\nPaula Granquist is a writer working on a novel\, short stories\, and essays. She hosts ArtZany! on 95.1 FM The One \nJoy Riggs is an award-winning writer\, editor\, lecturer\, and author of Crackerjack Bands & Hometown Boosters.  \nDanny Saathoff is a professional visual artist\, jewelry designer and fabricator as well as an instructor in Art at Carleton College. \n  \nFollowing the group presentation portion\, attendees who’ve pre-registered\, can participate in a 10-minute breakout review session for one-on-one help with their artist statement. Participants in the breakout sessions are invited to email in a sample artist statement the week before the workshop; RSVPs are required for participation in the review sessions with a panelist. \n  \n  \nRefreshments and snacks will be available during the workshop for attendees in both parts; we encourage networking while artists are waiting for their session with a panelist. Space is limited; please reserve your spot by emailing heather@northfieldartsguild.org or by calling 507-645-8877 x 4. \n\nThis activity is made possible by the voters of Minnesota through a grant from the Southeastern Minnesota Arts Council thanks to a legislative appropriation from the arts & cultural heritage fund.
URL:https://northfieldartsguild.org/event/free-workshop-the-anatomy-of-an-artist-statement/
LOCATION:411 West 3rd Street\, Northfield\, 55057\, United States
CATEGORIES:Education,Literary Arts,Special Events,Visual Arts
ATTACH;FMTTYPE=:
END:VEVENT
BEGIN:VEVENT
DTSTART;VALUE=DATE:20200404
DTEND;VALUE=DATE:20200405
DTSTAMP:20260425T111939
CREATED:20191106T214340Z
LAST-MODIFIED:20200402T204728Z
UID:23389-1585958400-1586044799@northfieldartsguild.org
SUMMARY:E-magination Celebration
DESCRIPTION:E-MAGINATION CELEBRATION\nTHE NORTHFIELD ARTS GUILD INVITES OUR COMMUNITY NEAR AND FAR TO ATTEND E-MAGINATION CELEBRATION\, A FREE DAY OF ONLINE PROGRAMMING INCLUDING GALLERY TOURS\, ART MAKING\, AND PERFORMANCES FROM 10 A.M. TO 2 P.M. ON SATURDAY\, APRIL 4\, 2020. THIS FAMILY-FRIENDLY ONLINE EVENT IS A VIRTUAL RE-IMAGINING OF THE GUILD’S ANNUAL IMAGINATION CELEBRATION THAT CAN BE ENJOYED FROM HOME.\nThe Guild is thrilled to continue this annual tradition in a new\, virtual setting. Follow along on the Guild’s Facebook and YouTube pages with new content added regularly throughout the celebration\, or watch later as all of the videos will remain online. \n  \nPERFORMANCES Watch dances from Folklórico and Dance Theater Company\, highlights from the Guild’s production of Lend Me a Tenor and behind the scenes footage of the Purple Door Youth Theater production of The Prince and the Pauper. \n\nGALLERY TOURS A highlight of E-magination Celebration will be a series of teacher-led video tours on YouTube of their students’ artwork in 20/20 VISION\, this year’s All School Art Show installed in our Main Gallery. This popular annual exhibition features 2-D and 3-D artworks by nearly 1\,000 students from Northfield K-12 schools. \n  \nART MAKING Make your own art at home throughout the day! Guided arts activities will be released throughout the day to paint\, draw and create your own art using everyday household items. \n\n  \n\nEven in this time of social distancing\, the Guild embraces our mission to serve our community with a rich array of arts opportunities and experiences. We hope you will join us for ­E-magination Celebration\, and also follow us on social media to enjoy arts learning and arts engagement activities. \n\n  \n20/20 VISION is supported by Northfield Yarn and The Sketchy Artist.\nThe Guild’s 2019-2020 Education programming is sponsored by Northfield News.\nThe Guild’s 2019-2020 Theater season is sponsored by Neuger Communications Group and Engage Print.\nPurple Door Youth Theater is sponsored by Schieck Orthodontics.
URL:https://northfieldartsguild.org/event/23389/
LOCATION:Northfield Arts Guild\, 304 Division St.\, Northfield\, MN\, 55057\, United States
CATEGORIES:Dance,Education,Fair/Festival,Literary Arts,Music,Poetry,Special Events,Theater,Visual Arts
ATTACH;FMTTYPE=image/jpeg:https://northfieldartsguild.org/wp-content/uploads/All-School-Art-Show-4.2.jpg
END:VEVENT
END:VCALENDAR