BEGIN:VCALENDAR
VERSION:2.0
PRODID:-//Northfield Arts Guild - ECPv6.15.19//NONSGML v1.0//EN
CALSCALE:GREGORIAN
METHOD:PUBLISH
X-WR-CALNAME:Northfield Arts Guild
X-ORIGINAL-URL:https://northfieldartsguild.org
X-WR-CALDESC:Events for Northfield Arts Guild
REFRESH-INTERVAL;VALUE=DURATION:PT1H
X-Robots-Tag:noindex
X-PUBLISHED-TTL:PT1H
BEGIN:VTIMEZONE
TZID:America/Chicago
BEGIN:DAYLIGHT
TZOFFSETFROM:-0600
TZOFFSETTO:-0500
TZNAME:CDT
DTSTART:20170312T080000
END:DAYLIGHT
BEGIN:STANDARD
TZOFFSETFROM:-0500
TZOFFSETTO:-0600
TZNAME:CST
DTSTART:20171105T070000
END:STANDARD
BEGIN:DAYLIGHT
TZOFFSETFROM:-0600
TZOFFSETTO:-0500
TZNAME:CDT
DTSTART:20180311T080000
END:DAYLIGHT
BEGIN:STANDARD
TZOFFSETFROM:-0500
TZOFFSETTO:-0600
TZNAME:CST
DTSTART:20181104T070000
END:STANDARD
BEGIN:DAYLIGHT
TZOFFSETFROM:-0600
TZOFFSETTO:-0500
TZNAME:CDT
DTSTART:20190310T080000
END:DAYLIGHT
BEGIN:STANDARD
TZOFFSETFROM:-0500
TZOFFSETTO:-0600
TZNAME:CST
DTSTART:20191103T070000
END:STANDARD
END:VTIMEZONE
BEGIN:VEVENT
DTSTART;TZID=America/Chicago:20180420T190000
DTEND;TZID=America/Chicago:20180420T210000
DTSTAMP:20260422T013003
CREATED:20180404T204050Z
LAST-MODIFIED:20180404T204050Z
UID:16241-1524250800-1524258000@northfieldartsguild.org
SUMMARY:Artist Reception: The Northfield (Exhibition) Experience
DESCRIPTION:The Northfield (Exhibition) Experience\n  \nPlease join us to learn more about the work and meet the artists at the Opening Reception on Friday\, April 20 from 7:00 to 9:00 pm with remarks from the Artistic Director of The Northfield Experience\, Stephan Koplowitz at 7:30 pm.\nThe Guild presents The Northfield (Exhibition) Experience which has been specifically curated in conjunction with The Northfield Experience\, April 18 through May 12\, 2018\, in the Main Gallery of the Center for the Arts\,304 Division Street South\, Northfield.  This exhibition includes paintings\, photographs\, textiles\, collage and ceramics commissioned from nearly 30 area artists. \nThis exhibition is particularly unique in that it features work generated by each artist’s conceptual vision around an arts event before the event occurs. This exhibition will give viewers a unique entry point into the seven sites being animated as part of The Northfield Experience. This event is a promenade performance in which the audience will take part in a progressive walking tour that begins at The Grand Event Center\, Friday-Sunday\, May 4 – 6\, 2018.  The Northfield (Exhibition) Experience  offers its own visual journey of both the project and of the city of Northfield. As part of the complete experience\, viewers are invited to visit the gallery exhibition both before and after the May performances for differing perspectives. \nThis project is made possible by the voters of Minnesota through a grant from the Minnesota State Arts Board\, thanks to a legislative appropriation from the arts and cultural heritage fund. \nThis project is supported in part by an award from the National Endowment for the Arts. \nThis activity is made possible by the voters of Minnesota through a grant from the Southeastern Minnesota Arts Council thanks to a legislative appropriation from the arts & cultural heritage fund.\n  \n2017-18 Gallery Season sponsored by:
URL:https://northfieldartsguild.org/event/artist-reception-the-northfield-exhibition-experience/
LOCATION:MN
CATEGORIES:Fair/Festival,Special Events,Visual Arts
ATTACH;FMTTYPE=:
END:VEVENT
END:VCALENDAR