BEGIN:VCALENDAR
VERSION:2.0
PRODID:-//Northfield Arts Guild - ECPv6.15.19//NONSGML v1.0//EN
CALSCALE:GREGORIAN
METHOD:PUBLISH
X-WR-CALNAME:Northfield Arts Guild
X-ORIGINAL-URL:https://northfieldartsguild.org
X-WR-CALDESC:Events for Northfield Arts Guild
REFRESH-INTERVAL;VALUE=DURATION:PT1H
X-Robots-Tag:noindex
X-PUBLISHED-TTL:PT1H
BEGIN:VTIMEZONE
TZID:America/Chicago
BEGIN:DAYLIGHT
TZOFFSETFROM:-0600
TZOFFSETTO:-0500
TZNAME:CDT
DTSTART:20180311T080000
END:DAYLIGHT
BEGIN:STANDARD
TZOFFSETFROM:-0500
TZOFFSETTO:-0600
TZNAME:CST
DTSTART:20181104T070000
END:STANDARD
BEGIN:DAYLIGHT
TZOFFSETFROM:-0600
TZOFFSETTO:-0500
TZNAME:CDT
DTSTART:20190310T080000
END:DAYLIGHT
BEGIN:STANDARD
TZOFFSETFROM:-0500
TZOFFSETTO:-0600
TZNAME:CST
DTSTART:20191103T070000
END:STANDARD
BEGIN:DAYLIGHT
TZOFFSETFROM:-0600
TZOFFSETTO:-0500
TZNAME:CDT
DTSTART:20200308T080000
END:DAYLIGHT
BEGIN:STANDARD
TZOFFSETFROM:-0500
TZOFFSETTO:-0600
TZNAME:CST
DTSTART:20201101T070000
END:STANDARD
END:VTIMEZONE
BEGIN:VEVENT
DTSTART;TZID=America/Chicago:20190802T183000
DTEND;TZID=America/Chicago:20190802T210000
DTSTAMP:20260425T105651
CREATED:20190910T152352Z
LAST-MODIFIED:20190910T152352Z
UID:23292-1564770600-1564779600@northfieldartsguild.org
SUMMARY:"Baggage" Capstone Event
DESCRIPTION:Baggage: Immigrants\n\nby Isabella Rose\nAugust 1-31\, 2019\nIsabella Rose’s solo exhibition is a snapshot of her long-term project featuring mixed media collages inside suitcases interpreting personal interviews. This series features the life stories of three immigrants. She received a SEMAC Emerging Artist grant for this project. \nSEMAC Capstone Event: Friday August 2\, 6:30 pm \n  \nRose’s art explores what makes people who they are\, the parts we hide and the parts we share. The parts of people that seem inconsequential interest her\, the parts that are not perfect or pretty\, but add up to make them whole. Through her art she wants to share these facets of people unprocessed and raw. Her desire is to create unease by revealing the beauty in the imperfect and broken. She hopes this unease leads to reflection\, connection\, and empathy. \nIsabella Rose was born and raised in Northfield\, MN and graduated from the Northfield ALC in 2018. She has worked with numerous Minnesota artists in Northfield and the Twin Cities and currently lives in St Paul. She will be attending the School of the Art Institute of Chicago in the fall. \n  \n\n \n  \n  \n  \nThis activity is made possible by the voters of Minnesota through a grant from the Southeastern Minnesota Arts Council thanks to a legislative appropriation from the arts & cultural heritage fund. \n\n\n\n\n\n\n\n\n\n\n\n2018-19 Gallery Season sponsored by:
URL:https://northfieldartsguild.org/event/baggage-capstone-event/
LOCATION:Northfield Arts Guild\, 304 Division St.\, Northfield\, MN\, 55057\, United States
CATEGORIES:Education,Special Events,Visual Arts
ATTACH;FMTTYPE=:
END:VEVENT
END:VCALENDAR