BEGIN:VCALENDAR
VERSION:2.0
PRODID:-//Northfield Arts Guild - ECPv6.15.19//NONSGML v1.0//EN
CALSCALE:GREGORIAN
METHOD:PUBLISH
X-ORIGINAL-URL:https://northfieldartsguild.org
X-WR-CALDESC:Events for Northfield Arts Guild
REFRESH-INTERVAL;VALUE=DURATION:PT1H
X-Robots-Tag:noindex
X-PUBLISHED-TTL:PT1H
BEGIN:VTIMEZONE
TZID:America/Chicago
BEGIN:DAYLIGHT
TZOFFSETFROM:-0600
TZOFFSETTO:-0500
TZNAME:CDT
DTSTART:20140309T080000
END:DAYLIGHT
BEGIN:STANDARD
TZOFFSETFROM:-0500
TZOFFSETTO:-0600
TZNAME:CST
DTSTART:20141102T070000
END:STANDARD
BEGIN:DAYLIGHT
TZOFFSETFROM:-0600
TZOFFSETTO:-0500
TZNAME:CDT
DTSTART:20150308T080000
END:DAYLIGHT
BEGIN:STANDARD
TZOFFSETFROM:-0500
TZOFFSETTO:-0600
TZNAME:CST
DTSTART:20151101T070000
END:STANDARD
BEGIN:DAYLIGHT
TZOFFSETFROM:-0600
TZOFFSETTO:-0500
TZNAME:CDT
DTSTART:20160313T080000
END:DAYLIGHT
BEGIN:STANDARD
TZOFFSETFROM:-0500
TZOFFSETTO:-0600
TZNAME:CST
DTSTART:20161106T070000
END:STANDARD
END:VTIMEZONE
BEGIN:VEVENT
DTSTART;VALUE=DATE:20150727
DTEND;VALUE=DATE:20150728
DTSTAMP:20260419T154518
CREATED:20150727T165056Z
LAST-MODIFIED:20150727T165056Z
UID:5510-1437955200-1438041599@northfieldartsguild.org
SUMMARY:Fall 2015 classes begin!
DESCRIPTION:Want to take an art class from a working arts professional or educator? Or try something completely new with a friend? Or build on skills you might already have? We’ve got a little something to offer for everyone–all ages\, all abilities\, all levels. Get messy in a clay class or refine your movement in a dance class\, plus lots more! \nCheck out our classes at https://northfieldartsguild.org/education/classes/ and join us for the best art-making experiences here in Northfield! \nRegistrations can be completed online with a credit card\, or to pay by check or cash\, please stop by or mail registration form and fees to the Guild Offices at 304 Division St.\, Northfield\, MN 55057.
URL:https://northfieldartsguild.org/event/fall-2015-classes-begin/
LOCATION:Center for the Arts\, 304 Division Street\, Northfield\, MN\, 55057\, United States
CATEGORIES:Education
ATTACH;FMTTYPE=:
GEO:44.4631662;-93.1557115
X-APPLE-STRUCTURED-LOCATION;VALUE=URI;X-ADDRESS=Center for the Arts 304 Division Street Northfield MN 55057 United States;X-APPLE-RADIUS=500;X-TITLE=304 Division Street:geo:-93.1557115,44.4631662
END:VEVENT
BEGIN:VEVENT
DTSTART;TZID=America/Chicago:20150723T090000
DTEND;TZID=America/Chicago:20150723T110000
DTSTAMP:20260419T154518
CREATED:20150522T222037Z
LAST-MODIFIED:20150522T222037Z
UID:5052-1437642000-1437649200@northfieldartsguild.org
SUMMARY:Family Fun Day!
DESCRIPTION:Stop on by the Northfield Arts Guild and enjoy a wealth of (FREE!) family-friendly art activities\, mini-classes\, and more! \nThe July 23 Family Fun Day\, happening during downtown Northfield’s annual Crazy Daze celebration\, will feature: \n\nAnimation Station with Peter Nelson*\n\n\nInterested in animation? Want to try it yourself? Local artist Peter Nelson will facilitate a stop-motion animation workshop at which participants are invited to create a summer-themed animation. At the end of the workshop the animation will be projected for everyone to enjoy.\n\nPeter will also screen an original animation based on the true-life story of his grandmother. He will demonstrate how the animation was made\, exhibit miniature sets and puppets\, and answer questions about his project.Come for two minutes or two hours! This fun and easy event is appropriate for kids (and adults) of all ages and requires no previous experience.\n\n\n\n“KidsArt Trading Post”\nKids bring their own creations to exchange for other youth artwork!\nFolk Dancing Mini-Classes with Kate Stuart\n\n  \n*This activity is made possible by the generosity of the McKnight Foundation through a grant from the Southeastern Minnesota Arts Council. Support for this project is also provided by the Olson Endowment for Marriage and Family and the CURI (Collaborative Undergraduate Research and Inquiry) Program at St. Olaf College. Special thanks to the Northfield Arts Guild for hosting this event. \n 
URL:https://northfieldartsguild.org/event/family-fun-day-2/
LOCATION:Center for the Arts\, 304 Division Street\, Northfield\, MN\, 55057\, United States
CATEGORIES:Education,Special Events
ATTACH;FMTTYPE=:
GEO:44.4631662;-93.1557115
X-APPLE-STRUCTURED-LOCATION;VALUE=URI;X-ADDRESS=Center for the Arts 304 Division Street Northfield MN 55057 United States;X-APPLE-RADIUS=500;X-TITLE=304 Division Street:geo:-93.1557115,44.4631662
END:VEVENT
BEGIN:VEVENT
DTSTART;TZID=America/Chicago:20150627T100000
DTEND;TZID=America/Chicago:20150627T120000
DTSTAMP:20260419T154518
CREATED:20150522T221724Z
LAST-MODIFIED:20150522T221724Z
UID:5050-1435399200-1435406400@northfieldartsguild.org
SUMMARY:Family Fun Day!
DESCRIPTION:Stop on by the Northfield Arts Guild and enjoy a wealth of (FREE!) family-friendly art activities\, mini-classes\, and more! Kids are also encouraged to bring art work from home that they would like to trade at our “KidsArt Trading Post”  Every day will have new stuff to try! \nSchedule of events: \n\n10:15 am–Folk Dancing class for the whole family with Kate Stuart\n11:00 am–Folklorico dancing mini-class with Ana Baez\nBooker\, the Northfield Book Mobile\, will be here during the whole event!
URL:https://northfieldartsguild.org/event/family-fun-day/
LOCATION:Center for the Arts\, 304 Division Street\, Northfield\, MN\, 55057\, United States
CATEGORIES:Education,Special Events
ATTACH;FMTTYPE=:
GEO:44.4631662;-93.1557115
X-APPLE-STRUCTURED-LOCATION;VALUE=URI;X-ADDRESS=Center for the Arts 304 Division Street Northfield MN 55057 United States;X-APPLE-RADIUS=500;X-TITLE=304 Division Street:geo:-93.1557115,44.4631662
END:VEVENT
BEGIN:VEVENT
DTSTART;TZID=America/Chicago:20150626T100000
DTEND;TZID=America/Chicago:20150626T113000
DTSTAMP:20260419T154518
CREATED:20150522T220417Z
LAST-MODIFIED:20150522T220417Z
UID:5046-1435312800-1435318200@northfieldartsguild.org
SUMMARY:Young People's Theater Performance
DESCRIPTION:Students grades 3-12 perform original scripts created around a special theme and workshopped over the course of three weeks. \nTickets are $5 for adults\, and $3 for students and seniors. Tickets may be purchased at the NAG offices during business hours or at the door. \nSponsored by: \n  
URL:https://northfieldartsguild.org/event/young-peoples-theater-performance-2/
LOCATION:Arcadia Charter School\, 1719 Cannon Rd\, Northfield\, MN\, 55057\, United States
CATEGORIES:Education,Theater
ATTACH;FMTTYPE=:
GEO:44.4396257;-93.1848966
X-APPLE-STRUCTURED-LOCATION;VALUE=URI;X-ADDRESS=Arcadia Charter School 1719 Cannon Rd Northfield MN 55057 United States;X-APPLE-RADIUS=500;X-TITLE=1719 Cannon Rd:geo:-93.1848966,44.4396257
END:VEVENT
BEGIN:VEVENT
DTSTART;TZID=America/Chicago:20150624T173000
DTEND;TZID=America/Chicago:20150624T190000
DTSTAMP:20260419T154518
CREATED:20150522T215752Z
LAST-MODIFIED:20150522T215752Z
UID:5043-1435167000-1435172400@northfieldartsguild.org
SUMMARY:Young People's Theater Performance
DESCRIPTION:Students grades 3-12 perform original scripts created around a special theme and workshopped over the course of three weeks. \nTickets are $5 for adults\, and $3 for students and seniors. Tickets may be purchased at the NAG offices during business hours or at the door. \nSponsored by: \n  
URL:https://northfieldartsguild.org/event/young-peoples-theater-performance/2015-06-24/
LOCATION:Arcadia Charter School\, 1719 Cannon Rd\, Northfield\, MN\, 55057\, United States
CATEGORIES:Education,Theater
ATTACH;FMTTYPE=:
GEO:44.4396257;-93.1848966
X-APPLE-STRUCTURED-LOCATION;VALUE=URI;X-ADDRESS=Arcadia Charter School 1719 Cannon Rd Northfield MN 55057 United States;X-APPLE-RADIUS=500;X-TITLE=1719 Cannon Rd:geo:-93.1848966,44.4396257
END:VEVENT
END:VCALENDAR