BEGIN:VCALENDAR
VERSION:2.0
PRODID:-//Northfield Arts Guild - ECPv6.15.19//NONSGML v1.0//EN
CALSCALE:GREGORIAN
METHOD:PUBLISH
X-ORIGINAL-URL:https://northfieldartsguild.org
X-WR-CALDESC:Events for Northfield Arts Guild
REFRESH-INTERVAL;VALUE=DURATION:PT1H
X-Robots-Tag:noindex
X-PUBLISHED-TTL:PT1H
BEGIN:VTIMEZONE
TZID:America/Chicago
BEGIN:DAYLIGHT
TZOFFSETFROM:-0600
TZOFFSETTO:-0500
TZNAME:CDT
DTSTART:20180311T080000
END:DAYLIGHT
BEGIN:STANDARD
TZOFFSETFROM:-0500
TZOFFSETTO:-0600
TZNAME:CST
DTSTART:20181104T070000
END:STANDARD
BEGIN:DAYLIGHT
TZOFFSETFROM:-0600
TZOFFSETTO:-0500
TZNAME:CDT
DTSTART:20190310T080000
END:DAYLIGHT
BEGIN:STANDARD
TZOFFSETFROM:-0500
TZOFFSETTO:-0600
TZNAME:CST
DTSTART:20191103T070000
END:STANDARD
BEGIN:DAYLIGHT
TZOFFSETFROM:-0600
TZOFFSETTO:-0500
TZNAME:CDT
DTSTART:20200308T080000
END:DAYLIGHT
BEGIN:STANDARD
TZOFFSETFROM:-0500
TZOFFSETTO:-0600
TZNAME:CST
DTSTART:20201101T070000
END:STANDARD
END:VTIMEZONE
BEGIN:VEVENT
DTSTART;TZID=America/Chicago:20190626T113000
DTEND;TZID=America/Chicago:20190626T123000
DTSTAMP:20260425T142223
CREATED:20190607T010608Z
LAST-MODIFIED:20190607T010608Z
UID:23251-1561548600-1561552200@northfieldartsguild.org
SUMMARY:Free Lunch & Learn: Nerstrand Big Woods & Climate Change
DESCRIPTION:Free Lunch & Learn Opportunity: Climate Change & Nerstrand Big Woods Forest Death\nMain Gallery\, Northfield Arts Guild\, 304 Division Street\nWednesday\, June 26   11:30 am – 12:30 pm\nThe community is invited to this free event! Come learn about how Climate Change is affecting a favorite place for locals (and visitors) to hike\, picnic\, camp and explore. Neil Slifka\, Area Resource Specialist | Parks and Trails\, Minnesota Department of Natural Resources (MNDNR) will present his first-hand knowledge on the forest death happening in the Nerstrand Big Woods State Park:\n \n\nHow the affected forest is changing.\nSome areas of forest are dying due to a changing climate.\nRain is falling differently than in the past.\nClimate and soil define what type of forest can grow on a landscape.\nAsh trees tolerate wet soil and this has its own problems.\nBased on the data\, what forest management actions the MNDNR is implementing.\n\nAfter Neil presents\, there will be time for audience questions. Guests are welcome to bring a bag lunch. Space is limited; please RSVP by June 25 to attend by emailing heather@northfieldartsguild.org or by calling 507-645-8877 x4. \n  \n  \nThis activity is made possible by the voters of Minnesota through a grant from the Southeastern Minnesota Arts Council thanks to a legislative appropriation from the arts & cultural heritage fund. \n2018-19 Gallery Season sponsored by: \n\n\n\nWe Are Water: Watershed supported by:\nProfessional Drive Dental Group\n  \nWe Are Water: Watershed partners: \n     \n 
URL:https://northfieldartsguild.org/event/free-lunch-learn-nerstrand-big-woods-climate-change/
LOCATION:Center for the Arts\, 304 Division Street\, Northfield\, MN\, 55057\, United States
CATEGORIES:Education,Special Events,Visual Arts
ATTACH;FMTTYPE=:
GEO:44.4631662;-93.1557115
X-APPLE-STRUCTURED-LOCATION;VALUE=URI;X-ADDRESS=Center for the Arts 304 Division Street Northfield MN 55057 United States;X-APPLE-RADIUS=500;X-TITLE=304 Division Street:geo:-93.1557115,44.4631662
END:VEVENT
END:VCALENDAR