BEGIN:VCALENDAR
VERSION:2.0
PRODID:-//Northfield Arts Guild - ECPv6.15.19//NONSGML v1.0//EN
CALSCALE:GREGORIAN
METHOD:PUBLISH
X-ORIGINAL-URL:https://northfieldartsguild.org
X-WR-CALDESC:Events for Northfield Arts Guild
REFRESH-INTERVAL;VALUE=DURATION:PT1H
X-Robots-Tag:noindex
X-PUBLISHED-TTL:PT1H
BEGIN:VTIMEZONE
TZID:America/Chicago
BEGIN:DAYLIGHT
TZOFFSETFROM:-0600
TZOFFSETTO:-0500
TZNAME:CDT
DTSTART:20190310T080000
END:DAYLIGHT
BEGIN:STANDARD
TZOFFSETFROM:-0500
TZOFFSETTO:-0600
TZNAME:CST
DTSTART:20191103T070000
END:STANDARD
BEGIN:DAYLIGHT
TZOFFSETFROM:-0600
TZOFFSETTO:-0500
TZNAME:CDT
DTSTART:20200308T080000
END:DAYLIGHT
BEGIN:STANDARD
TZOFFSETFROM:-0500
TZOFFSETTO:-0600
TZNAME:CST
DTSTART:20201101T070000
END:STANDARD
BEGIN:DAYLIGHT
TZOFFSETFROM:-0600
TZOFFSETTO:-0500
TZNAME:CDT
DTSTART:20210314T080000
END:DAYLIGHT
BEGIN:STANDARD
TZOFFSETFROM:-0500
TZOFFSETTO:-0600
TZNAME:CST
DTSTART:20211107T070000
END:STANDARD
END:VTIMEZONE
BEGIN:VEVENT
DTSTART;TZID=America/Chicago:20200304T183000
DTEND;TZID=America/Chicago:20200304T200000
DTSTAMP:20260421T125312
CREATED:20200217T182844Z
LAST-MODIFIED:20200217T183233Z
UID:24650-1583346600-1583352000@northfieldartsguild.org
SUMMARY:Artist Studio Visit
DESCRIPTION:Jan Shoger\, is hosting a Studio Visit on Wednesday\, March 4 from 6:30 – 8 pm. Space is limited. Please RSVP by Friday\, Feb 28 if you would like to join us: heather@northfieldartsguild.org. Registered attendees will be given the studio address upon confirmation. \n  \nHave you ever wondered about how other artists work\, and the spaces where they create? As part of our continuing efforts to connect artists\, and provide opportunities for artist professional development\, the Arts Guild organizes regular Studio Visits. \nLocal\, professional artists will host these Studio Visits for 10–15 guests. After a brief tour/ demo\, this will be a time for guests to network and share stories. These visits are intended to provide a space for asking questions about techniques\, the technical aspects of setting up or redoing a studio space\, and for learning about how other working artists are creating. \nJOIN US FOR OUR ARTIST PROFESSIONAL DEVELOPMENT SERIES\nYOU ASKED FOR OPPORTUNITIES TO GROW AS ARTISTS\, AND WE LISTENED! THE GOAL OF OUR APD SERIES IS TO BUILD COMMUNITY AMONGST OUR REGIONAL VISUAL ARTISTS WORKING IN ALL MEDIA\, AND GROW THROUGH NETWORKING AND LEARNING OPPORTUNITIES. \nEACH QUARTER\, THE GUILD PROVIDES A RANGE OF EVENTS \n\nARTIST MIXERS LOW-KEY ARTIST GET TOGETHERS AT A LOCAL ESTABLISHMENT\nARTIST CONVERSATIONS WORKSHOPS FOCUSED ON A SPECIFIC VISUAL ARTS RELATED TOPIC\nSTUDIO VISITS SEE HOW OTHER ARTISTS CREATE TO A TOPIC SHARED OVER LUNCH\nLUNCH & LEARNS DEMONSTRATIONS AND PRESENTATIONS ON A TOPIC SHARED OVER LUNCH\n\nTHESE GATHERINGS ARE FREE AND OPEN TO THE PUBLIC\, BUT AS SPACE IS LIMITED\, PLEASE RESERVE YOUR SEAT BY EMAILING HEATHER@NORTHFIELDARTSGUILD.ORG OR CALLING (507) 645-8877. TO SUGGEST A TOPIC OR WORKSHOP\, PLEASE EMAIL HEATHER@NORTHFIELDARTSGUILD.ORG.
URL:https://northfieldartsguild.org/event/artist-studio-visit-4/
CATEGORIES:Education,Special Events,Visual Arts
ATTACH;FMTTYPE=image/jpeg:https://northfieldartsguild.org/wp-content/uploads/Jan-Shoger-2-cropped-long.jpg
END:VEVENT
BEGIN:VEVENT
DTSTART;VALUE=DATE:20200321
DTEND;VALUE=DATE:20200322
DTSTAMP:20260421T125312
CREATED:20200213T193706Z
LAST-MODIFIED:20200518T193403Z
UID:24608-1584748800-1584835199@northfieldartsguild.org
SUMMARY:"20/20 Vision" All School Show Opens
DESCRIPTION:20/20 VISION\nNORTHFIELD AREA ALL-SCHOOL ART SHOW\n***NEW DATES***\nMARCH 21– MAY 16\, 2020\nThis popular\, annual exhibition shows the progression of fantastic arts education here in the Northfield community!  It features 2-D and 3-D artworks by nearly 1\,000 students from Arcadia Charter School\, Area Learning Center\, Bridgewater Elementary School\, Greenvale Park Community School\, Northfield Area Homeschool Classes\, Northfield High School\, Northfield Middle School\, Prairie Creek Community School\, Sibley Elementary School\, and St. Dominic Catholic School. \n_____________________________________\n \n\n\n\n\n\n\n\n\n\n*** WATCH AN OVERALL VIRTUAL TOUR OF THE EXHIBITION ON THE GUILD’S FACEBOOK PAGE ***\n*** WATCH TEACHER TOURS OF THEIR STUDENTS’ ARTWORK ON THE GUILD’S YOUTUBE CHANNEL ***\n\n\n\n  \n20/20 Vision is sponsored by Northfield Yarn and The Sketchy Artist.
URL:https://northfieldartsguild.org/event/20-20-vision-all-school-show-opens/
LOCATION:Northfield Arts Guild\, 304 Division St.\, Northfield\, MN\, 55057\, United States
CATEGORIES:Education,Special Events,Visual Arts
ATTACH;FMTTYPE=image/jpeg:https://northfieldartsguild.org/wp-content/uploads/All-School-Show-poster-image-cropped.jpg
END:VEVENT
BEGIN:VEVENT
DTSTART;TZID=America/Chicago:20200323T100000
DTEND;TZID=America/Chicago:20200323T130000
DTSTAMP:20260421T125312
CREATED:20200109T201909Z
LAST-MODIFIED:20200318T193639Z
UID:24339-1584957600-1584968400@northfieldartsguild.org
SUMMARY:Virtual Open Art
DESCRIPTION:*STAY TUNED WE ARE CURRENTLY WORKING OUT DETAILS FOR A VIRTUAL OPEN ART!*\nJoin us during Spring Break for some art making! Though we won’t be hosting an in-person Open Art this month\, we plan to provide some videos so you can make art at home with simple materials.
URL:https://northfieldartsguild.org/event/open-art-11/
LOCATION:Northfield Arts Guild\, 304 Division St.\, Northfield\, MN\, 55057\, United States
CATEGORIES:Education,Visual Arts
ATTACH;FMTTYPE=image/jpeg:https://northfieldartsguild.org/wp-content/uploads/IMG_9587-1.jpg
END:VEVENT
BEGIN:VEVENT
DTSTART;TZID=America/Chicago:20200325T190000
DTEND;TZID=America/Chicago:20200325T200000
DTSTAMP:20260421T125312
CREATED:20200218T230703Z
LAST-MODIFIED:20200317T181921Z
UID:24694-1585162800-1585166400@northfieldartsguild.org
SUMMARY:Canceled - Works in Progress Artist Mixer
DESCRIPTION:*WE WILL RESCHEDULE THIS MIXER – STAY TUNED FOR A NEW DATE*\nCONNECT\, SHARE\, GROW! \nJOIN US FOR OUR “WORKS IN PROGRESS” SHOW & TELL NIGHT! \nBring in your latest work\, or pieces that you have been wanting to revisit\, and discuss ideas with other like-minded artists in an encouraging\, low-pressure environment.  Light refreshments will be served.   Please RSVP by March 20 to heather@northfieldartsguild.org. \n 
URL:https://northfieldartsguild.org/event/works-in-progress-artist-mixer-4/
LOCATION:Center for the Arts\, 304 Division Street\, Northfield\, MN\, 55057\, United States
CATEGORIES:Education,Special Events,Visual Arts
ATTACH;FMTTYPE=image/jpeg:https://northfieldartsguild.org/wp-content/uploads/WIP-printing.jpg
GEO:44.4631662;-93.1557115
X-APPLE-STRUCTURED-LOCATION;VALUE=URI;X-ADDRESS=Center for the Arts 304 Division Street Northfield MN 55057 United States;X-APPLE-RADIUS=500;X-TITLE=304 Division Street:geo:-93.1557115,44.4631662
END:VEVENT
END:VCALENDAR