BEGIN:VCALENDAR
VERSION:2.0
PRODID:-//Northfield Arts Guild - ECPv6.15.19//NONSGML v1.0//EN
CALSCALE:GREGORIAN
METHOD:PUBLISH
X-WR-CALNAME:Northfield Arts Guild
X-ORIGINAL-URL:https://northfieldartsguild.org
X-WR-CALDESC:Events for Northfield Arts Guild
REFRESH-INTERVAL;VALUE=DURATION:PT1H
X-Robots-Tag:noindex
X-PUBLISHED-TTL:PT1H
BEGIN:VTIMEZONE
TZID:America/Chicago
BEGIN:DAYLIGHT
TZOFFSETFROM:-0600
TZOFFSETTO:-0500
TZNAME:CDT
DTSTART:20170312T080000
END:DAYLIGHT
BEGIN:STANDARD
TZOFFSETFROM:-0500
TZOFFSETTO:-0600
TZNAME:CST
DTSTART:20171105T070000
END:STANDARD
BEGIN:DAYLIGHT
TZOFFSETFROM:-0600
TZOFFSETTO:-0500
TZNAME:CDT
DTSTART:20180311T080000
END:DAYLIGHT
BEGIN:STANDARD
TZOFFSETFROM:-0500
TZOFFSETTO:-0600
TZNAME:CST
DTSTART:20181104T070000
END:STANDARD
BEGIN:DAYLIGHT
TZOFFSETFROM:-0600
TZOFFSETTO:-0500
TZNAME:CDT
DTSTART:20190310T080000
END:DAYLIGHT
BEGIN:STANDARD
TZOFFSETFROM:-0500
TZOFFSETTO:-0600
TZNAME:CST
DTSTART:20191103T070000
END:STANDARD
END:VTIMEZONE
BEGIN:VEVENT
DTSTART;TZID=America/Chicago:20180513T170000
DTEND;TZID=America/Chicago:20180513T193000
DTSTAMP:20260421T151051
CREATED:20171220T221451Z
LAST-MODIFIED:20171220T221451Z
UID:14335-1526230800-1526239800@northfieldartsguild.org
SUMMARY:Spring Dance Concert 2018
DESCRIPTION:Northfield High School Auditorium\, 1400 Division St.\, Northfield\nTickets: $10/adult\, $5/student & free/4 and under \n\nTickets will also be available at the door. \nNorthfield Arts Guild dance class participants will perform all levels and styles!
URL:https://northfieldartsguild.org/event/spring-dance-concert-2018/
LOCATION:MN
CATEGORIES:Dance,Special Events
ATTACH;FMTTYPE=:
END:VEVENT
END:VCALENDAR